BEGIN:VCALENDAR
VERSION:2.0
PRODID:-//Gemini Ink - ECPv6.3.0//NONSGML v1.0//EN
CALSCALE:GREGORIAN
METHOD:PUBLISH
X-WR-CALNAME:Gemini Ink
X-ORIGINAL-URL:https://geminiink.org
X-WR-CALDESC:Events for Gemini Ink
REFRESH-INTERVAL;VALUE=DURATION:PT1H
X-Robots-Tag:noindex
X-PUBLISHED-TTL:PT1H
BEGIN:VTIMEZONE
TZID:America/Mexico_City
BEGIN:DAYLIGHT
TZOFFSETFROM:-0600
TZOFFSETTO:-0500
TZNAME:CDT
DTSTART:20240407T080000
END:DAYLIGHT
BEGIN:STANDARD
TZOFFSETFROM:-0500
TZOFFSETTO:-0600
TZNAME:CST
DTSTART:20241027T070000
END:STANDARD
END:VTIMEZONE
BEGIN:VEVENT
DTSTART;TZID=America/Mexico_City:20240413T100000
DTEND;TZID=America/Mexico_City:20240413T130000
DTSTAMP:20260421T135522
CREATED:20231207T171933Z
LAST-MODIFIED:20240422T193344Z
UID:9522-1713002400-1713013200@geminiink.org
SUMMARY:The Edge of the Sea is a Strange and Beautiful Place: Hybrid Poetry & Prose Experiments with Aimee Nezhukumatathil
DESCRIPTION:Saturday\, April 13\, 2024 10:00am-1:00pm CST\, in-person at Gemini Ink\nInstructor: Aimee Nezhukumatathil\nNonmember: $145; Member: $125; Student/Educator/Mil $75 \n*EARN CPE’S\nSCHOLARSHIPS AVAILABLE. \n \n  \nBuilding upon writer and marine biologist Rachel Carson’s famous maritime observation\, we will investigate and interrogate the “strange and beautiful place” of genre-blurring work—work that melds elements of creative non-fiction and poetry.  \nIn this one-session\, cross-genre workshop\, participants will focus on generating new work that builds upon Audre Lorde’s idea that “the sharing of joy…forms a bridge between the sharers which can be the basis for understanding much of what is not shared between them\, and lessens the threat of their difference.” We will spend our time generating work that sings and celebrates the various big and small delights of this earth. We will also learn several craft practices to help keep us generating new work long after returning home.  \nCome prepared to roll up your sleeves and dig in! We’ll have plenty of time for in-class craft analysis\, discussion\, and writing prompts galore that will send you home with several solid drafts of new work. Ideal for writers at any level of experience looking for a vibrant shake-up to their writing practices long after the workshop is over. \nThis course is open to writers of all genres and skill levels\, 18+. \nStudents will leave this class with: \n\nAn understanding of how to blur genres effectively in writing\nSeveral drafts of new pieces\nCraft tips for continuing to write independently\n\n\nAimee Nezhukumatathil is the author of the New York Times best-selling illustrated collection of nature essays\, WORLD OF WONDERS: IN PRAISE OF FIREFLIES\, WHALE SHARKS\, & OTHER ASTONISHMENTS. She also wrote four previous poetry collections including OCEANIC. Her most recent chapbook is LACE & PYRITE\, a collaboration of epistolary garden poems with the poet Ross Gay. Honors include a poetry fellowship from the National Endowment for the Arts\, the Pushcart Prize\, a Mississippi Arts Council grant\, and being named a Guggenheim Fellow in poetry. She is poetry editor for SIERRA magazine\, the story-telling arm of The Sierra Club. She is professor of English and Creative Writing in the University of Mississippi’s MFA program and her forthcoming book of food essays is called BITE BY BITE (Ecco\, May 2024).  \n\nParking at Gemini Ink\nGemini Ink offers free parking along the back wall of our downtown offices. Please access this parking lot from Augusta St and first park in any of the 12 spots along the back wall. Only when these 12 spots are full do we ask that you park elsewhere in our lot. We now rent our offices from UTSA and are collaborating with them to create a secure and accessible parking lot for our community of writers and readers.
URL:https://geminiink.org/events/the-edge-of-the-sea/
LOCATION:TX
CATEGORIES:Workshop
END:VEVENT
END:VCALENDAR