BEGIN:VCALENDAR
VERSION:2.0
PRODID:-//Gemini Ink - ECPv6.3.0//NONSGML v1.0//EN
CALSCALE:GREGORIAN
METHOD:PUBLISH
X-ORIGINAL-URL:https://geminiink.org
X-WR-CALDESC:Events for Gemini Ink
REFRESH-INTERVAL;VALUE=DURATION:PT1H
X-Robots-Tag:noindex
X-PUBLISHED-TTL:PT1H
BEGIN:VTIMEZONE
TZID:America/Mexico_City
BEGIN:DAYLIGHT
TZOFFSETFROM:-0600
TZOFFSETTO:-0500
TZNAME:CDT
DTSTART:20240407T080000
END:DAYLIGHT
BEGIN:STANDARD
TZOFFSETFROM:-0500
TZOFFSETTO:-0600
TZNAME:CST
DTSTART:20241027T070000
END:STANDARD
END:VTIMEZONE
BEGIN:VEVENT
DTSTART;TZID=America/Mexico_City:20240420T100000
DTEND;TZID=America/Mexico_City:20240420T143000
DTSTAMP:20260421T135711
CREATED:20231207T174510Z
LAST-MODIFIED:20240417T174852Z
UID:9528-1713607200-1713623400@geminiink.org
SUMMARY:From Description to Discovery: Personal Essays on Art with Jehanne Dubrow
DESCRIPTION:Saturday\, April 20\, 10am-2:30pm CST (with 30 min lunch)\, via Zoom\nInstructor: Jehanne Dubrow\nNonmember: $140; Member: $120; Student/Educator/Mil $75 \nClass Cancelled.\nEkphrasis teaches us that in standing back to study a work of fine art\, we can find a way to step back and examine ourselves as if we are the art. For many writers\, ekphrasis is a literary device that provides a visual springboard for unlocking stories you didn’t even know were inside of you. \nIn this one-day course\, participants will read examples of ekphrastic writing from across genres and go through the process of creating an ekphrastic essay. They’ll learn how to write about art using the five senses and concrete\, specific details and how to research the history of an art piece. Participants will then weave their description\, research\, and a personal experience together to generate an ekphrastic personal essay. \nStudents should come to class with an image of a piece of art that has personal meaning to them. This course is open to writers of all genres and skill level\, 18+.  \nStudents will leave this class with: \n\nA first draft of an essay that engages with a work of art\nAn understanding of how ekphrasis can be used to break through writer’s block\nConcrete strategies for blending research with personal stories\n\n\nJehanne Dubrow is the author of nine poetry collections and three books of creative nonfiction\, including most recently Exhibitions: Essays on Art & Atrocity (University of New Mexico Press\, 2023)\, and Taste: A Book of Small Bites (Columbia University Press\, 2022). Her next book of poems\, Civilians\, will be published by Louisiana State University Press in 2025. Her writing has appeared in New England Review\, POETRY\,  and The Southern Review\, among others. She is a Professor of Creative Writing at the University of North Texas.
URL:https://geminiink.org/events/from-description-to-discovery/
LOCATION:Online via Zoom
CATEGORIES:Online Workshop,Workshop
ORGANIZER;CN="Mandy Lynn Lara":MAILTO:mllara@geminiink.org
END:VEVENT
END:VCALENDAR