BEGIN:VCALENDAR
VERSION:2.0
PRODID:-//Gemini Ink - ECPv6.3.0//NONSGML v1.0//EN
CALSCALE:GREGORIAN
METHOD:PUBLISH
X-ORIGINAL-URL:https://geminiink.org
X-WR-CALDESC:Events for Gemini Ink
REFRESH-INTERVAL;VALUE=DURATION:PT1H
X-Robots-Tag:noindex
X-PUBLISHED-TTL:PT1H
BEGIN:VTIMEZONE
TZID:America/Mexico_City
BEGIN:DAYLIGHT
TZOFFSETFROM:-0600
TZOFFSETTO:-0500
TZNAME:CDT
DTSTART:20240407T080000
END:DAYLIGHT
BEGIN:STANDARD
TZOFFSETFROM:-0500
TZOFFSETTO:-0600
TZNAME:CST
DTSTART:20241027T070000
END:STANDARD
END:VTIMEZONE
BEGIN:VEVENT
DTSTART;TZID=America/Mexico_City:20240604T183000
DTEND;TZID=America/Mexico_City:20240604T203000
DTSTAMP:20260421T092747
CREATED:20240422T190205Z
LAST-MODIFIED:20240604T151317Z
UID:9969-1717525800-1717533000@geminiink.org
SUMMARY:No More Excuses: Submission Bootcamp with Lyzette Wanzer
DESCRIPTION:Tuesdays\, June 4\, 11\, 18\, 25  & July 2\, 9\, 2024 from 6:30-8:30pm cst via Zoom\nInstructor: Lyzette Wanzer\nNonmember: $155; Member: $135; Student/Educator/Mil $75 \n*EARN CPE’S\nSCHOLARSHIPS AVAILABLE. \nClass Full\nAre you on the verge of submitting your writing for publication\, but are you too nervous or afraid to follow through? Have you submitted your work\, just for it to end up in the rejection pile? Or does submitting your work keep falling to the bottom of your to-do list? \nIn this workshop\, you’ll learn how to plan a submission strategy\, research publishing markets\, and identify the publications most aligned with your work. We will also review proper submission etiquette and protocols plus suggestions for avoiding pitfalls that mark you as an amateur before editors even read your submission. \nStudents will be strongly encouraged to actively submit short stories\, articles\, poems\, essays\, novel excerpts\, and/or creative nonfiction pieces for publication while enrolled in the workshop. \nThis course is for writers of all levels—from those who are ready to learn about the submission process to those who are in the submission trenches. \nStudents will leave this class with:  \n\nAn understanding of how the submission and publication process works\nBest practices for organizing and tracking submissions\nStrategies for getting your work accepted\n\nRead Lyzette’s Writer’s Desk Q&A!\n\nLyzette Wanzer is a San Francisco writer\, editor\, and writing workshop instructor. She received her MFA in Fiction from Mills College. A flash fiction connoisseur and essay aficionado\, her work has appeared in Natural Bridge\, The Los Angeles Review\, Callaloo\, Tampa Review\, The MacGuffin\, Ampersand Review\, Journal of Advanced Development\, Fourteen Hills\, Journal of Experimental Fiction\, Pleiades\, Flashquake\, Glossalia Flash Fiction\, Potomac Review\, International Journal on Literature and Theory\, Fringe Magazine\, and many others. She is a contributor to Lyric Essay as Resistance: Truth From the Margins (Wayne State University Press 2022)\, The Chalk Circle: Intercultural Prizewinning Essays (Wyatt-MacKenzie 2012)\, Civil Liberties United: Diverse Voices from the San Francisco Bay Area (Pease Press 2019)\, and 642 Tiny Things to Write About (Chronicle Books 2015). Her articles have appeared in Essay Daily\, The Naked Truth\, and the San Francisco University High School Journal. Lyzette is the current judge of the Soul-Making Keats Literary Competition’s Intercultural Essay category and of the Women’s National Book Association’s Effie Lee Morris Writing Contest’s nonfiction category. \nLyzette has been invited to present her work and/or panels at conferences across the country\, including the American and Popular Culture Association\, Association of Writers & Writing Programs (AWP)\, College English Association (CEA)\, Louisville Conference on Literature & Culture Since 1900\, Litquake Festival\, San Francisco Writers Conference\, and others.
URL:https://geminiink.org/events/submission-bootcamp/
LOCATION:Online via Zoom
ATTACH;FMTTYPE=image/png:https://geminiink.org/wp-content/uploads/2024/04/1-1.png
ORGANIZER;CN="Mandy Lynn Lara":MAILTO:mllara@geminiink.org
END:VEVENT
END:VCALENDAR