BEGIN:VCALENDAR
VERSION:2.0
PRODID:-//Gemini Ink - ECPv6.3.0//NONSGML v1.0//EN
CALSCALE:GREGORIAN
METHOD:PUBLISH
X-WR-CALNAME:Gemini Ink
X-ORIGINAL-URL:https://geminiink.org
X-WR-CALDESC:Events for Gemini Ink
REFRESH-INTERVAL;VALUE=DURATION:PT1H
X-Robots-Tag:noindex
X-PUBLISHED-TTL:PT1H
BEGIN:VTIMEZONE
TZID:America/Mexico_City
BEGIN:DAYLIGHT
TZOFFSETFROM:-0600
TZOFFSETTO:-0500
TZNAME:CDT
DTSTART:20240407T080000
END:DAYLIGHT
BEGIN:STANDARD
TZOFFSETFROM:-0500
TZOFFSETTO:-0600
TZNAME:CST
DTSTART:20241027T070000
END:STANDARD
END:VTIMEZONE
BEGIN:VEVENT
DTSTART;TZID=America/Mexico_City:20240627T183000
DTEND;TZID=America/Mexico_City:20240627T200000
DTSTAMP:20260421T092608
CREATED:20240422T182414Z
LAST-MODIFIED:20240621T165731Z
UID:9967-1719513000-1719518400@geminiink.org
SUMMARY:Letters to James Baldwin: A Pride Month Reading & Celebration
DESCRIPTION:Join Gemini Ink on Thursday\, June 27th\, to wrap up Pride Month 2024 with a timely and intimate literary discussion around the life and work of James Baldwin.  \nWe will celebrate the genius of Baldwin\, a black\, queer writer and civil rights activist\, and create a space for other writers to draw inspiration from and interact with his work.  This event will feature authors Georgie Lee\, Aminah Decé\, and Aaron Deutsch\, who will each share a piece of work written in response to Baldwin’s concepts and ideas. Come join the community conversation. Following the program\, we will have a community open mic. Light refreshments will be served. \nPlease visit our social media pages during the month of June. We’re sharing writing prompts and quotes from James Baldwin that mayinspire you to write something new for the open mic! \n \nInstagram: @sa_geminiink\nFacebook: @GeminiInk\nTwitter: @GeminiInk   \n\nAminah Decé is a Teaching Artist from Mississippi. She was trained at the World Combat Academy\, Institute of Martial Science\, and maintains degrees in The Humanities\, Fine Arts & Art History/Criticism from UTSA. She began her artistic journey as a slam poet in Killeen\, Texas. Aminah discredits concepts of race and supremacy through her art and empowers the public to do the same through art education. \n  \nAaron Deutsch received his MFA in poetry with distinction from Texas State University\, intending to acquire a lexicon to answer the wild\, mystical questions the world around him seemed to be asking. That journey led him to become a senior program manager with the United States Department of Defense\, where he works to build regional security across South America and the Middle East alongside international partners. To establish and maintain effective communication\, he uses poetics and linguistics to build shared goals across cultures. He loves teaching creative writing classes\, working on that ever-elusive first book\, and spoiling his Boston Terrier\, Hamlet.  \nGeorgie Lee (he/they) is an award-winning and internationally published poet from South Texas. By day\, Georgie is the healthcare form designer for all Baptist Health System hospitals in the San Antonio area. By night\, Georgie is heavily involved in the local performing arts scene. From acting in community theater productions to playing the clarinet in symphonic bands\, Georgie hopes to inspire others to explore the power of recovery through creative activity. Their work is centered around self-love\, grief\, overcoming addiction\, and queerness as a celebration.
URL:https://geminiink.org/events/letters-to-james-baldwin/
LOCATION:Gemini Ink\, 1111 Navarro St\, San Antonio\, TX\, 78205\, United States
CATEGORIES:Event
ATTACH;FMTTYPE=image/jpeg:https://geminiink.org/wp-content/uploads/2024/04/gettyimages-1049291868-612x612-1.jpg
END:VEVENT
END:VCALENDAR