BEGIN:VCALENDAR
VERSION:2.0
PRODID:-//Gemini Ink - ECPv6.3.0//NONSGML v1.0//EN
CALSCALE:GREGORIAN
METHOD:PUBLISH
X-ORIGINAL-URL:https://geminiink.org
X-WR-CALDESC:Events for Gemini Ink
REFRESH-INTERVAL;VALUE=DURATION:PT1H
X-Robots-Tag:noindex
X-PUBLISHED-TTL:PT1H
BEGIN:VTIMEZONE
TZID:America/Mexico_City
BEGIN:DAYLIGHT
TZOFFSETFROM:-0600
TZOFFSETTO:-0500
TZNAME:CDT
DTSTART:20240407T080000
END:DAYLIGHT
BEGIN:STANDARD
TZOFFSETFROM:-0500
TZOFFSETTO:-0600
TZNAME:CST
DTSTART:20241027T070000
END:STANDARD
END:VTIMEZONE
BEGIN:VEVENT
DTSTART;TZID=America/Mexico_City:20241113T183000
DTEND;TZID=America/Mexico_City:20241113T200000
DTSTAMP:20260423T150145
CREATED:20240815T190332Z
LAST-MODIFIED:20241004T185633Z
UID:10621-1731522600-1731528000@geminiink.org
SUMMARY:LitMinds: A Book Club at Gemini Ink
DESCRIPTION:Join us for the Lit Minds Book Club. We’re reading Half of a Yellow Sun\, a novel by Nigerian author Chimamanda Ngozi Adichie.\nRegister\nNATIONAL BOOK CRITICS CIRCLE AWARD FINALIST • From the award-winning\, bestselling author of Americanah and We Should All Be Feminists—a haunting story of love and war. • Recipient of the Women’s Prize for Fiction “Winner of Winners” award. \nWith effortless grace\, celebrated author Chimamanda Ngozi Adichie illuminates a seminal moment in modern African history: Biafra’s impassioned struggle to establish an independent republic in southeastern Nigeria during the late 1960s. We experience this tumultuous decade alongside five unforgettable characters: Ugwu\, a thirteen-year-old houseboy who works for Odenigbo\, a university professor full of revolutionary zeal; Olanna\, the professor’s beautiful young mistress who has abandoned her life in Lagos for a dusty town and her lover’s charm; and Richard\, a shy young Englishman infatuated with Olanna’s willful twin sister Kainene. \nHalf of a Yellow Sun is a tremendously evocative novel of the promise\, hope\, and disappointment of the Biafran war. \n\n \nChimamanda Ngozi Adichie (born September 15\, 1977\, Enugu\, Nigeria) is a Nigerian writer whose second novel\, Half of a Yellow Sun (2006)\, gained international acclaim for its depiction of the devastation caused by the Nigerian Civil War. Her novels\, short stories\, and nonfiction explore the intersections of identity. Learn more at www.chimamanda.com. \n 
URL:https://geminiink.org/events/litminds-a-book-club-2/
LOCATION:Gemini Ink\, 1111 Navarro St\, San Antonio\, TX\, 78205\, United States
CATEGORIES:Event
ATTACH;FMTTYPE=image/jpeg:https://geminiink.org/wp-content/uploads/2024/08/half-yellow-sun-e1728068259239.jpg
ORGANIZER;CN="Mandy Lynn Lara":MAILTO:mllara@geminiink.org
END:VEVENT
END:VCALENDAR