BEGIN:VCALENDAR
VERSION:2.0
PRODID:-//Gemini Ink - ECPv6.3.0//NONSGML v1.0//EN
CALSCALE:GREGORIAN
METHOD:PUBLISH
X-WR-CALNAME:Gemini Ink
X-ORIGINAL-URL:https://geminiink.org
X-WR-CALDESC:Events for Gemini Ink
REFRESH-INTERVAL;VALUE=DURATION:PT1H
X-Robots-Tag:noindex
X-PUBLISHED-TTL:PT1H
BEGIN:VTIMEZONE
TZID:America/Mexico_City
BEGIN:DAYLIGHT
TZOFFSETFROM:-0600
TZOFFSETTO:-0500
TZNAME:CDT
DTSTART:20250406T080000
END:DAYLIGHT
BEGIN:STANDARD
TZOFFSETFROM:-0500
TZOFFSETTO:-0600
TZNAME:CST
DTSTART:20251026T070000
END:STANDARD
END:VTIMEZONE
BEGIN:VEVENT
DTSTART;TZID=America/Mexico_City:20250108T183000
DTEND;TZID=America/Mexico_City:20250108T200000
DTSTAMP:20260420T044011
CREATED:20240816T204112Z
LAST-MODIFIED:20250116T194437Z
UID:10699-1736361000-1736366400@geminiink.org
SUMMARY:LitMinds Book Club
DESCRIPTION:Join us for the LitMinds Book Club at Gemini Ink. We’re reading The Spirit Catches You and You Fall Down: A Hmong Child\, Her American Doctors\, and the Collision of Two Cultures\, by Anne Fadiman.\nRegister\n\n\nWinner of the National Book Critics Circle Award for Nonfiction \nWinner of the Los Angeles Times Book Prize for Current Interest \nA Salon Book Award Winner \nLia Lee was born in 1982 to a family of recent Hmong immigrants\, and soon developed symptoms of epilepsy. By 1988 she was living at home but was brain dead after a tragic cycle of misunderstanding\, over-medication\, and culture clash: “What the doctors viewed as clinical efficiency the Hmong viewed as frosty arrogance.” The Spirit Catches You and You Fall Down is a tragedy of Shakespearean dimensions\, written with the deepest of human feeling. Sherwin Nuland said of the account\, “There are no villains in Fadiman’s tale\, just as there are no heroes. People are presented as she saw them\, in their humility and their frailty—and their nobility. \n\n\n\n \nAnne Fadiman was born in New York City in 1953. She graduated in 1975 from Harvard College\, where she began her writing career as the undergraduate columnist at Harvard Magazine. For many years\, she was a writer and columnist for Life\, and later an Editor-at-Large at Civilization. She has won National Magazine Awards for both Reporting (1987) and Essays (2003)\, as well as a National Book Critics Circle Award for The Spirit Catches You and You Fall Down. Ex Libris: Confessions of a Common Reader\, a collection of first-person essays on books and reading\, was published by Farrar\, Straus and Giroux in 1998. Fadiman was the editor of the intellectual and cultural quarterly The American Scholar from 1997 to 2004. She now holds the Francis chair in nonfiction writing at Yale. Fadiman lives in western Massachusetts with her husband\, the writer George Howe Colt\, and their two children. \n 
URL:https://geminiink.org/events/litminds-a-book-club-3/
LOCATION:Gemini Ink\, 1111 Navarro St\, San Antonio\, TX\, 78205\, United States
ATTACH;FMTTYPE=image/jpeg:https://geminiink.org/wp-content/uploads/2024/08/fadiman-e1723841022389.jpg
ORGANIZER;CN="Mandy Lynn Lara":MAILTO:mllara@geminiink.org
END:VEVENT
END:VCALENDAR