BEGIN:VCALENDAR
VERSION:2.0
PRODID:-//Gemini Ink - ECPv6.3.0//NONSGML v1.0//EN
CALSCALE:GREGORIAN
METHOD:PUBLISH
X-ORIGINAL-URL:https://geminiink.org
X-WR-CALDESC:Events for Gemini Ink
REFRESH-INTERVAL;VALUE=DURATION:PT1H
X-Robots-Tag:noindex
X-PUBLISHED-TTL:PT1H
BEGIN:VTIMEZONE
TZID:America/Mexico_City
BEGIN:DAYLIGHT
TZOFFSETFROM:-0600
TZOFFSETTO:-0500
TZNAME:CDT
DTSTART:20250406T080000
END:DAYLIGHT
BEGIN:STANDARD
TZOFFSETFROM:-0500
TZOFFSETTO:-0600
TZNAME:CST
DTSTART:20251026T070000
END:STANDARD
END:VTIMEZONE
BEGIN:VEVENT
DTSTART;TZID=America/Mexico_City:20250125T100000
DTEND;TZID=America/Mexico_City:20250125T160000
DTSTAMP:20260423T120458
CREATED:20241125T153723Z
LAST-MODIFIED:20250115T194248Z
UID:11092-1737799200-1737820800@geminiink.org
SUMMARY:First Page Fiction Bootcamp with Chaitali Sen
DESCRIPTION:Saturday\, January 25\, 2025\, 10am-4pm CST (with 30-minute lunch)\, in person at Gemini Ink \nNonmember $140        Member    $120                 Student $80 \n*EARN CPE’S\n \n\n  \n\nA formidable first page of fiction grabs the reader\, sets the tone for what’s to come\, and captures the essence of the entire work. But how do we create an opening that keeps the reader turning the page? \nIn this one-day workshop\, we will study and discuss various examples of compelling first pages to see what works; we will review craft elements such as character\, setting\, point-of-view\, and narrative voice; and we will write and examine our own first pages in a safe\, supportive environment.  \nThis course is open to fiction writers of all skill levels\, 18+. \nStudents will leave this class with: \n\nAn understanding of what makes for a strong first page\nTechniques for writing strong openings\nA strong first page of fiction\n\n\nChaitali Sen is the author of the novel The Pathless Sky (Europa Editions 2015) and the story collection A New Race of Men from Heaven (Sarabande Books 2023)\, chosen by Danielle Evans as the winner of the 2021 Mary McCarthy Prize in Short Fiction. Her stories and essays have been published by American Short Fiction\, Boulevard\, Catapult\, Colorado Review\, Ecotone\, Electric Literature\, LitHub\, Los Angeles Review of Books\, New England Review\, Shenandoah\, and many other publications. Born in India and raised in New York and Pennsylvania\, she currently lives in Austin\, Texas.
URL:https://geminiink.org/events/fiction-bootcamp/
LOCATION:Gemini Ink\, 1111 Navarro St\, San Antonio\, TX\, 78205\, United States
CATEGORIES:Workshop
ATTACH;FMTTYPE=image/png:https://geminiink.org/wp-content/uploads/2024/11/Chaitali-Sen-e1733426867932.png
ORGANIZER;CN="Mandy Lynn Lara":MAILTO:mllara@geminiink.org
END:VEVENT
BEGIN:VEVENT
DTSTART;TZID=America/Mexico_City:20250125T113000
DTEND;TZID=America/Mexico_City:20250125T130000
DTSTAMP:20260423T120458
CREATED:20241125T170232Z
LAST-MODIFIED:20250217T191402Z
UID:11107-1737804600-1737810000@geminiink.org
SUMMARY:Teen Writing Circle with Daniel Ramirez
DESCRIPTION:Register\nLast Saturday of Every Month 11:30am-1pm cst via Zoom \nFor ages 13-19 years old \nAre you a teen who enjoys writing in their free time? Or are you someone who’s never had the chance to write on their own? If so\, this Online Teen Writing Circle is for you!  \nIn this once-a-month writing circle\, teens will enjoy writing in a judgment free zone. We’ll break the ice with one another and perform various writing exercises. You are encouraged to share your work with your peers and get constructive feedback\, but it is not required. Our only goal is to keep you writing! \nThis course is open to teen writers of any skill level. \nParticipants will leave the writing circle with:  \n\nNew\, unique written work\nListening and sharing experience\nConstructive feedback to help improve their writing\n\nWant to learn more about our Teen Writing Circle? Check out our Frequently Asked Questions!\n \n\nDaniel Ramirez has been an educator for over 15 years. After studying History in grad school\, he tromped around the outdoors doing conservation with teenagers. Spending time as a Montessori educator revealed the power of incorporating creativity with learning. Encouraging youth to tap into their creative abilities convinced him to discover his own. Since then\, in addition to his original love of storytelling\, he’s found a penchant for calligraphy\, puppetry\, poetry\, and block printing. A San Antonio native\, he explores the crystalline waters of Central Texas in his free time. \n \n  \n 
URL:https://geminiink.org/events/teen-writing-circle/
LOCATION:Online via Zoom
CATEGORIES:Online Workshop,Workshop,Youth
ATTACH;FMTTYPE=image/png:https://geminiink.org/wp-content/uploads/2024/11/TWC-poster-revised-e1737489414714.png
ORGANIZER;CN="Mandy Lynn Lara":MAILTO:mllara@geminiink.org
END:VEVENT
END:VCALENDAR