BEGIN:VCALENDAR
VERSION:2.0
PRODID:-//Gemini Ink - ECPv6.3.0//NONSGML v1.0//EN
CALSCALE:GREGORIAN
METHOD:PUBLISH
X-ORIGINAL-URL:https://geminiink.org
X-WR-CALDESC:Events for Gemini Ink
REFRESH-INTERVAL;VALUE=DURATION:PT1H
X-Robots-Tag:noindex
X-PUBLISHED-TTL:PT1H
BEGIN:VTIMEZONE
TZID:America/Chicago
BEGIN:DAYLIGHT
TZOFFSETFROM:-0600
TZOFFSETTO:-0500
TZNAME:CDT
DTSTART:20260308T080000
END:DAYLIGHT
BEGIN:STANDARD
TZOFFSETFROM:-0500
TZOFFSETTO:-0600
TZNAME:CST
DTSTART:20261101T070000
END:STANDARD
END:VTIMEZONE
BEGIN:VEVENT
DTSTART;TZID=America/Chicago:20260314T100000
DTEND;TZID=America/Chicago:20260314T130000
DTSTAMP:20260423T120528
CREATED:20251023T111221Z
LAST-MODIFIED:20260304T171153Z
UID:13399-1773482400-1773493200@geminiink.org
SUMMARY:Publishing Made Possible: How to Get Your Work into Literary Magazines & Presses with Diamond Braxton
DESCRIPTION:Get your written work out there!\n  \nSaturday\, March 14\, 10am-1pm CT\, Hybrid (in-person at Gemini Ink and online via Zoom)\nNonmember: $75; Member: $65; Student/Educ/Mil: $53\n \n \n  \nAre you a budding writer who’s ready to get your written work out into the real world? Abode Press founder Diamond Braxton will teach you how!  \nIn this one-day workshop\, we will guide writers of all levels through the ins and outs of getting published. We’ll cover how to identify the right journals and presses for your work. Then\, we’ll walk you through essential submission materials such as artist statements\, query letters\, and writer bios. Whether you’re sending out a short story\, poem\, or full manuscript\, you’ll learn strategies to help your application rise above the slush pile.  \nPerfect for anyone who feels daunted by the submission process\, this workshop offers a clear roadmap and practical tools to navigate your publishing journey. Participants are encouraged to bring a piece of writing they’d like to publish\, but it’s not required—everyone is welcome to join. \nThis workshop is open to writers of all skill levels 18+. \nWorkshop participants will leave with the following:\n\nA writer bio\nAn artist statement and/or query letter\nA list of potential publishers and agents that align with their work\n\n\nDiamond Braxton is a writer\, editor\, publisher\, and lecturer based in Texas. Their award-winning work has been published in Best of the Net\, Best Microfiction\, Foglifter\, The Forge\, and the forthcoming anthology I Love Us: Queer on the Borderlands (Flowersong Press\, 2026). She has received fellowships for her work from Tin House\, Lambda Literary\, and Hedgebrook. She has held apprenticeships with Sourcebooks and Feminist Press. They are the Founder and Director of Abode Press\, a 501(c)3 publishing press based in the American South dedicated to uplifting underrepresented voices.
URL:https://geminiink.org/events/publishing-made-possible/
LOCATION:TX
CATEGORIES:Online Workshop,Workshop
ATTACH;FMTTYPE=image/png:https://geminiink.org/wp-content/uploads/2025/10/Diamond-Braxton2.png
ORGANIZER;CN="Mandy Lynn Lara":MAILTO:mllara@geminiink.org
END:VEVENT
END:VCALENDAR