BEGIN:VCALENDAR
VERSION:2.0
PRODID:-//Gemini Ink - ECPv6.3.0//NONSGML v1.0//EN
CALSCALE:GREGORIAN
METHOD:PUBLISH
X-WR-CALNAME:Gemini Ink
X-ORIGINAL-URL:https://geminiink.org
X-WR-CALDESC:Events for Gemini Ink
REFRESH-INTERVAL;VALUE=DURATION:PT1H
X-Robots-Tag:noindex
X-PUBLISHED-TTL:PT1H
BEGIN:VTIMEZONE
TZID:America/Chicago
BEGIN:DAYLIGHT
TZOFFSETFROM:-0600
TZOFFSETTO:-0500
TZNAME:CDT
DTSTART:20260308T080000
END:DAYLIGHT
BEGIN:STANDARD
TZOFFSETFROM:-0500
TZOFFSETTO:-0600
TZNAME:CST
DTSTART:20261101T070000
END:STANDARD
TZID:America/Mexico_City
BEGIN:DAYLIGHT
TZOFFSETFROM:-0600
TZOFFSETTO:-0500
TZNAME:CDT
DTSTART:20260405T080000
END:DAYLIGHT
BEGIN:STANDARD
TZOFFSETFROM:-0500
TZOFFSETTO:-0600
TZNAME:CST
DTSTART:20261025T070000
END:STANDARD
END:VTIMEZONE
BEGIN:VEVENT
DTSTART;TZID=America/Chicago:20260311T183000
DTEND;TZID=America/Chicago:20260311T200000
DTSTAMP:20260419T110730
CREATED:20251014T203113Z
LAST-MODIFIED:20260217T183507Z
UID:13340-1773253800-1773259200@geminiink.org
SUMMARY:LitMinds Book Club
DESCRIPTION:Join us for the LitMinds Book Club at Gemini Ink. We’re reading Their Eyes Were Watching God: A Novel by Zora Neale Hurston.\nRegister\n“A deeply soulful novel that comprehends love and cruelty\, and separates the big people from the small of heart\, without ever losing sympathy for those unfortunates who don’t know how to live properly.”—Zadie Smith \nOne of the most important and enduring books of the twentieth century\, Their Eyes Were Watching God brings to life a Southern love story with the wit and pathos found only in the writing of Zora Neale Hurston. Out of print for almost thirty years—due largely to initial audiences’ rejection of its strong black female protagonist—Hurston’s classic has\, since its 1978 reissue\, become perhaps the most widely read and highly acclaimed novel in the canon of African-American literature. \n\nFair and long-legged\, independent and articulate\, Janie Crawford sets out to be her own person—no mean feat for a black woman in the ’30s. Janie’s quest for identity takes her through three marriages and into a journey back to her roots. \n\n\nAbout the Author\n\n\n\n\n\n\n\n\n\n\n\nZora Neale Hurston was a celebrated author\, anthropologist\, and central figure of the Harlem Renaissance\, known for novels like Their Eyes Were Watching God that focused on Black American life and folklore. Educated at Howard University and Barnard College\, she was a groundbreaking ethnographer who studied Black culture in the rural South and Caribbean\, incorporating her research into her fiction. Despite achieving literary fame\, she died in poverty\, and her work was largely forgotten until its revival in the 1970s\, led by authors like Alice Walker. \n  \n\n\n\n\n\n\n\n\n\n\n\n\nVisit our LitMinds page to see what we’re reading next!
URL:https://geminiink.org/events/litminds-book-club-6/
LOCATION:Gemini Ink\, 1111 Navarro St\, San Antonio\, TX\, 78205\, United States
CATEGORIES:Event
ATTACH;FMTTYPE=image/png:https://geminiink.org/wp-content/uploads/2026/02/SP26-eyes-watching-god2.png
ORGANIZER;CN="Mandy Lynn Lara":MAILTO:mllara@geminiink.org
END:VEVENT
BEGIN:VEVENT
DTSTART;TZID=America/Mexico_City:20260318T183000
DTEND;TZID=America/Mexico_City:20260318T203000
DTSTAMP:20260419T110730
CREATED:20191105T075945Z
LAST-MODIFIED:20191105T075945Z
UID:13661-1773858600-1773865800@geminiink.org
SUMMARY:Veterans Writing Collective with Sarah Colby
DESCRIPTION:The Veteran’s Writing Collective (VWC) encourages the art of writing in a workshop environment where participants are offered honest\, positive\, and constructive peer-to-peer and mentor feedback. The workshop is open to all active-duty military\, veterans\, retirees\, and their immediate family members. Writers of all levels working in all genres are welcome. \nThe VWC meets monthly online via Zoom.\nIf you would like an invitation to this class\, send an email to veteranscollective@geminiink.org\n\nSarah Colby was born in northern New Mexico and raised in the Rocky Mountains. She is married to a retired Army Chaplain and is mother to a son in the Navy. Sarah has an MFA in Creative Writing from Sierra Nevada College and an exuberant interest in making the ordinary luminous. Her war-time experiences have motivated her to be a voice for the mostly untold stories of families and loved ones during these years of protracted conflict. She is currently working on a manuscript of poems about her experiences as a military family member.\n \n 
URL:https://geminiink.org/events/veterans-writing-collective-2020-07-15-2021-11-17-2023-08-16-2023-12-20/2026-03-18/
LOCATION:Online via Zoom
CATEGORIES:Event,Online Workshop,Workshop
ATTACH;FMTTYPE=image/jpeg:https://geminiink.org/wp-content/uploads/2019/11/homepage-footer-1250-x-600-1.jpg
ORGANIZER;CN="Sarah Colby":MAILTO:veteranscollective@geminiink.org
END:VEVENT
BEGIN:VEVENT
DTSTART;TZID=America/Chicago:20260318T190000
DTEND;TZID=America/Chicago:20260318T200000
DTSTAMP:20260419T110730
CREATED:20260224T225723Z
LAST-MODIFIED:20260226T203944Z
UID:13932-1773860400-1773864000@geminiink.org
SUMMARY:The Big Texas Author Talk featuring Lauren D. Woods
DESCRIPTION:Join us on Wednesday\, March 18th\, 2026\, via Zoom for a conversation with Lauren D. Woods\, to discuss her new book\, The Great Grown-Up Game of Make-Believe (Autumn House Press).\n\n\n(Virtual Readings Quarterly @ 7pm CST) \n\n\nRSVP \n  \nWinner of the 2024 Autumn House Fiction Prize\, these lyrical\, haunting stories invite us to question the stories we tell ourselves and to imagine other paths—joyful\, whimsical\, even absurd—through the world. \nA wife finds herself literally shrinking in her house\, day by day; a mother recalls the surreal day when her infant daughter survives a close encounter with a bear; and\, inside her lover’s heart\, a woman discovers a secret nightclub populated by all the women he’s loved and left. \nIn the worlds Woods conjures\, childhood memories ripple through adult lives\, and characters test the limits of their self-created realities. The Great Grown-Up Game of Make-Believe urges us to contemplate how we can escape loneliness and heartbreak and live on our own terms. \n\nAbout the Author\n \nLauren D. Woods\, originally from the Dallas area\, now lives and writes in Washington\, DC\, where she was a 2024-25 Washington\, DC Arts and Humanities Fellow for Fiction. Her writing has appeared as a spotlighted story in The Best Small Fictions\, as well as in The Antioch Review\, The Normal School\, Passages North\, Hayden’s Ferry Review\, Red Rock Review\, Southern Humanities Review\, and Lunch Ticket\, among others. Lauren works in consulting and lives with her husband\, four children\, two cats\, and a guinea pig. The Great Grown-Up Game of Make-Believe is her debut collection. \n  \n\nAbout the Moderator\n \nMichael Don is the author of the story collection Partners and Strangers\, a finalist for the 2019 Foreword Indies Book of the Year Award in short fiction. His stories and essays have appeared in journals such as The Southampton Review\, World Literature Today\, Puerto Del Sol\, The Baltimore Review\, Passages North\, Southern Humanities Review\, and Washington Square Review. He is a professor at George Mason University\, co-editor of Kikwetu: A Journal of East African Literature\, and co-organizer of the Fox City Lit reading series.
URL:https://geminiink.org/events/the-big-texas-author-talk-featuring-lauren-d-woods/
LOCATION:Online via Zoom
CATEGORIES:Event
ATTACH;FMTTYPE=image/jpeg:https://geminiink.org/wp-content/uploads/2026/02/SP26-IG-TEMPLATE.jpg
ORGANIZER;CN="Mandy Lynn Lara":MAILTO:mllara@geminiink.org
END:VEVENT
END:VCALENDAR