BEGIN:VCALENDAR
VERSION:2.0
PRODID:-//Gemini Ink - ECPv6.3.0//NONSGML v1.0//EN
CALSCALE:GREGORIAN
METHOD:PUBLISH
X-WR-CALNAME:Gemini Ink
X-ORIGINAL-URL:https://geminiink.org
X-WR-CALDESC:Events for Gemini Ink
REFRESH-INTERVAL;VALUE=DURATION:PT1H
X-Robots-Tag:noindex
X-PUBLISHED-TTL:PT1H
BEGIN:VTIMEZONE
TZID:America/Chicago
BEGIN:DAYLIGHT
TZOFFSETFROM:-0600
TZOFFSETTO:-0500
TZNAME:CDT
DTSTART:20250309T080000
END:DAYLIGHT
BEGIN:STANDARD
TZOFFSETFROM:-0500
TZOFFSETTO:-0600
TZNAME:CST
DTSTART:20251102T070000
END:STANDARD
END:VTIMEZONE
BEGIN:VEVENT
DTSTART;TZID=America/Chicago:20251114T183000
DTEND;TZID=America/Chicago:20251114T203000
DTSTAMP:20260419T192003
CREATED:20250814T164903Z
LAST-MODIFIED:20251021T190329Z
UID:12897-1763145000-1763152200@geminiink.org
SUMMARY:Celebrating Our Stories: A Night with Gemini Ink
DESCRIPTION:Friday\, November 14\, 2025 | 6:30–9:30pmRoosevelt Library\, San Antonio \nView sponsorship opportunitiesRegister now / Buy tickets \nThe Roosevelt Library \nThe Gemini Ink Board and team invite you to our autumn fundraiser\, Celebrating Our Stories: A Night with Gemini Ink—an unforgettable evening that uplifts San Antonio storytellers and honors those who keep our literary community thriving. \nThis year\, we’re moving the celebration to the Roosevelt Library\, a stunning venue that reflects the beauty and history of San Antonio’s artistic spirit. \nAn Evening of Stories\, Flavor\, and Connection\nEnjoy a culinary journey of small plates—from gumbo to Cacio e Pepe—paired with select wines and beverages. Hear from our Honorary Chair and Gemini Ink founder\, Nan Cuba link\, and mingle with fellow literary enthusiasts\, including our recent Inkstravaganza honorees Cary Clack\, Dr. Norma Elia Cantú\, Jenny Browne\, and Andrea “Vocab” Sanderson. \nFeaturing Live Performances\nExperience riveting performances from some of San Antonio’s most dynamic voices\, including Poet Laureate Eddie Vega\, and Gemini Ink’s Voices of San Anto alums Dragonfly and Enedina Irene\, sharing their powerful personal stories. \nA Special Reveal\nBe among the first to learn who will be honored at Inkstravaganza 2026—the announcement will be made exclusively during the event! \nSupport the Literary Arts\nWhen you purchase a ticket link or become a sponsor\, you directly support Gemini Ink’s year-round programs—helping us nurture the creative voices of tomorrow through initiatives like Partner Classes for under-resourced youth and our Writing for Resiliency workshops for frontline professionals. \nJoin us for this very special celebration of the writing arts. None of this would be possible without you! \nView sponsorship opportunitiesRegister now / Buy tickets
URL:https://geminiink.org/events/fundraiser/
LOCATION:TX
CATEGORIES:Event
ATTACH;FMTTYPE=image/png:https://geminiink.org/wp-content/uploads/2025/08/IG-size-of-Fall-Fundraising-Sponsorship-Levels.png
ORGANIZER;CN="Valeri Aragon":MAILTO:varagon@geminiink.org
END:VEVENT
END:VCALENDAR