BEGIN:VCALENDAR
VERSION:2.0
PRODID:-//Gemini Ink - ECPv6.3.0//NONSGML v1.0//EN
CALSCALE:GREGORIAN
METHOD:PUBLISH
X-WR-CALNAME:Gemini Ink
X-ORIGINAL-URL:https://geminiink.org
X-WR-CALDESC:Events for Gemini Ink
REFRESH-INTERVAL;VALUE=DURATION:PT1H
X-Robots-Tag:noindex
X-PUBLISHED-TTL:PT1H
BEGIN:VTIMEZONE
TZID:America/Chicago
BEGIN:DAYLIGHT
TZOFFSETFROM:-0600
TZOFFSETTO:-0500
TZNAME:CDT
DTSTART:20260308T080000
END:DAYLIGHT
BEGIN:STANDARD
TZOFFSETFROM:-0500
TZOFFSETTO:-0600
TZNAME:CST
DTSTART:20261101T070000
END:STANDARD
END:VTIMEZONE
BEGIN:VEVENT
DTSTART;TZID=America/Chicago:20260221T100000
DTEND;TZID=America/Chicago:20260221T120000
DTSTAMP:20260419T143830
CREATED:20250814T180348Z
LAST-MODIFIED:20260113T211206Z
UID:12914-1771668000-1771675200@geminiink.org
SUMMARY:Poets & Coffee
DESCRIPTION:A morning of poems and conversation\nSaturday\, February 21 · 10am–12pm · FREE * OPEN TO EVERYONE! \nWe’ll have the coffee ready—just bring a friend and settle in among fellow poetry lovers. \nExplore what’s happening now in the world of contemporary verse. We’ll share a few favorite poems and spotlight contemporary poets who are making waves both on the page and on the stage. This is your chance to join the conversation! Share the poems that have moved you and tell us why poetry matters in your life. \nWhat to Expect\n• Fresh coffee and a relaxed\, come-as-you-are atmosphere• A guided\, informal conversation led by Gemini Ink Executive Director Alexandra van de Kamp• Readings of contemporary poems• Space to listen\, reflect\, and share (only if you want to)• New poems to take home and simple prompts to spark your own writing• A room full of people who love poetry—or are just getting curious\n• No lectures. No pressure. Just good poems\, good conversation\, and good company. \nYou’ll leave with a sense of community. Whether you’re a seasoned poet or simply curious\, everyone is welcome at our poetic gathering. \n__________________________________________________________________________________________________________________________________________________ \n​​Alexandra van de Kamp is the Executive Director for Gemini Ink\, San Antonio’s Writing Arts Center. Her third book of poems\, Ricochet Script\, was published by Next Page Press in 2022. Her previous full-length collections include: Kiss/Hierarchy (Rain Mountain Press 2016) and The Park of Upside-Down Chairs (CW Books 2010). She has also published several chapbooks\, including A Liquid Bird Inside the Night (Red Glass Books 2015) and Dear Jean Seberg (2011)\, which won the 2010 Burnside Review Chapbook Contest. Her poems have been published in journals nationwide\, such as The Cincinnati Review\, Connecticut Review\, The Texas Observer\, and Denver Quarterly.
URL:https://geminiink.org/events/poets-coffee-2/
LOCATION:Gemini Ink\, 1111 Navarro St\, San Antonio\, TX\, 78205\, United States
CATEGORIES:Event
ATTACH;FMTTYPE=image/png:https://geminiink.org/wp-content/uploads/2025/08/poets-and-coffee-2.png
ORGANIZER;CN="Mandy Lynn Lara":MAILTO:mllara@geminiink.org
END:VEVENT
END:VCALENDAR