BEGIN:VCALENDAR
VERSION:2.0
PRODID:-//Gemini Ink - ECPv6.3.0//NONSGML v1.0//EN
CALSCALE:GREGORIAN
METHOD:PUBLISH
X-WR-CALNAME:Gemini Ink
X-ORIGINAL-URL:https://geminiink.org
X-WR-CALDESC:Events for Gemini Ink
REFRESH-INTERVAL;VALUE=DURATION:PT1H
X-Robots-Tag:noindex
X-PUBLISHED-TTL:PT1H
BEGIN:VTIMEZONE
TZID:America/Chicago
BEGIN:DAYLIGHT
TZOFFSETFROM:-0600
TZOFFSETTO:-0500
TZNAME:CDT
DTSTART:20260308T080000
END:DAYLIGHT
BEGIN:STANDARD
TZOFFSETFROM:-0500
TZOFFSETTO:-0600
TZNAME:CST
DTSTART:20261101T070000
END:STANDARD
TZID:America/Mexico_City
BEGIN:DAYLIGHT
TZOFFSETFROM:-0600
TZOFFSETTO:-0500
TZNAME:CDT
DTSTART:20260405T080000
END:DAYLIGHT
BEGIN:STANDARD
TZOFFSETFROM:-0500
TZOFFSETTO:-0600
TZNAME:CST
DTSTART:20261025T070000
END:STANDARD
END:VTIMEZONE
BEGIN:VEVENT
DTSTART;TZID=America/Chicago:20260618T183000
DTEND;TZID=America/Chicago:20260618T203000
DTSTAMP:20260419T193245
CREATED:20260326T185053Z
LAST-MODIFIED:20260326T185053Z
UID:14007-1781807400-1781814600@geminiink.org
SUMMARY:Poetry Crush: A Pride Month Literary Event 
DESCRIPTION:Location (TBD\, in-person) \nJoin Gemini Ink as we celebrate Pride Month 2026 with a lovestruck literary event! Poetry Crush invites generations of queer poets to read their own work and the works of their poetry crushes.
URL:https://geminiink.org/events/poetry-crush/
CATEGORIES:Event
ORGANIZER;CN="Mandy Lynn Lara":MAILTO:mllara@geminiink.org
END:VEVENT
BEGIN:VEVENT
DTSTART;TZID=America/Chicago:20260708T183000
DTEND;TZID=America/Chicago:20260708T200000
DTSTAMP:20260419T193245
CREATED:20260206T101830Z
LAST-MODIFIED:20260408T144522Z
UID:13813-1783535400-1783540800@geminiink.org
SUMMARY:LitMinds Book Club: The Safekeep
DESCRIPTION:Join us for the LitMinds Book Club at Gemini Ink. We’re reading The Safekeep by Yael van der Wouden.\nRegister for the Book Club\n\nA house is a precious thing… \nIt is 1961 and the rural Dutch province of Overijssel is quiet. Bomb craters have been filled\, buildings reconstructed\, and the war is truly over. Living alone in her late mother’s country home\, Isabel knows her life is as it should be—led by routine and discipline. But all is upended when her brother Louis brings his graceless new girlfriend Eva\, leaving her at Isabel’s doorstep as a guest\, to stay for the season. \nEva is Isabel’s antithesis: she sleeps late\, walks loudly through the house\, and touches things she shouldn’t. In response\, Isabel develops a fury-fueled obsession\, and when things start disappearing around the house—a spoon\, a knife\, a bowl—Isabel’s suspicions begin to spiral. In the sweltering peak of summer\, Isabel’s paranoia gives way to infatuation\, leading to a discovery that unravels all Isabel has ever known. The war might not be well and truly over after all\, and neither Eva—nor the house in which they live—are what they seem. \nMysterious\, sophisticated\, sensual\, and infused with intrigue\, atmosphere\, and sex\, The Safekeep is “a brave and thrilling debut about facing up to the truth of history\, and to one’s own desires” (The Guardian). \n\n\nAbout the Author\n\nYael van der Wouden is a writer and teacher. She currently lectures in creative writing and comparative literature in the Netherlands. Her essay on Dutch identity and Jewishness\, “On (Not) Reading Anne Frank”\, has received a notable mention in The Best American Essays 2018. The Safekeep is her debut novel and was acquired in hotly-contested nine-way auctions in both the UK and the US. Rights have sold in a further twelve countries. \nVisit our LitMinds page to see what we’re reading next!
URL:https://geminiink.org/events/litminds-book-club-van-der-wouden/
LOCATION:Gemini Ink\, 1111 Navarro St\, San Antonio\, TX\, 78205\, United States
CATEGORIES:Event
ATTACH;FMTTYPE=image/jpeg:https://geminiink.org/wp-content/uploads/2026/02/71elkCRlw9L._AC_UF10001000_QL80_-e1774550793432.jpg
ORGANIZER;CN="Mandy Lynn Lara":MAILTO:mllara@geminiink.org
END:VEVENT
BEGIN:VEVENT
DTSTART;TZID=America/Mexico_City:20260711T100000
DTEND;TZID=America/Mexico_City:20260711T120000
DTSTAMP:20260419T193245
CREATED:20260326T190144Z
LAST-MODIFIED:20260409T135237Z
UID:14011-1783764000-1783771200@geminiink.org
SUMMARY:Poets & Coffee with Alexandra van de Kamp
DESCRIPTION:Coffee. Poetry. Conversation.\nJoin Alexandra van de Kamp for an informal gathering focused on the poems and poets shaping today’s literary landscape. \nCome listen\, share\, and connect. \nYou’ll leave with new poems to read and prompts to keep writing. \n\n​​Alexandra van de Kamp is the Executive Director for Gemini Ink\, San Antonio’s Writing Arts Center. Her third book of poems\, Ricochet Script\, was published by Next Page Press in 2022. ​​Her previous full-length collections include: Kiss/Hierarchy (Rain Mountain Press 2016) and The Park of Upside-Down Chairs (CW Books 2010). She has also published several chapbooks\, including A Liquid Bird Inside the Night (Red Glass Books 2015) and Dear Jean Seberg (2011)\, which won the 2010 Burnside Review Chapbook Contest. Her poems have been published in journals nationwide\, such as The Cincinnati Review\, Connecticut Review\, The Texas Observer\, and Denver Quarterly.
URL:https://geminiink.org/events/poets-coffee-with-alexandra/
LOCATION:Gemini Ink
CATEGORIES:Event
ORGANIZER;CN="Alexandra van de Kamp":MAILTO:avandekamp@geminiink.org
END:VEVENT
BEGIN:VEVENT
DTSTART;TZID=America/Mexico_City:20260715T183000
DTEND;TZID=America/Mexico_City:20260715T203000
DTSTAMP:20260419T193245
CREATED:20191105T075945Z
LAST-MODIFIED:20191105T075945Z
UID:13665-1784140200-1784147400@geminiink.org
SUMMARY:Veterans Writing Collective with Sarah Colby
DESCRIPTION:The Veteran’s Writing Collective (VWC) encourages the art of writing in a workshop environment where participants are offered honest\, positive\, and constructive peer-to-peer and mentor feedback. The workshop is open to all active-duty military\, veterans\, retirees\, and their immediate family members. Writers of all levels working in all genres are welcome. \nThe VWC meets monthly online via Zoom.\nIf you would like an invitation to this class\, send an email to veteranscollective@geminiink.org\n\nSarah Colby was born in northern New Mexico and raised in the Rocky Mountains. She is married to a retired Army Chaplain and is mother to a son in the Navy. Sarah has an MFA in Creative Writing from Sierra Nevada College and an exuberant interest in making the ordinary luminous. Her war-time experiences have motivated her to be a voice for the mostly untold stories of families and loved ones during these years of protracted conflict. She is currently working on a manuscript of poems about her experiences as a military family member.\n \n 
URL:https://geminiink.org/events/veterans-writing-collective-2020-07-15-2021-11-17-2023-08-16-2023-12-20/2026-07-15/
LOCATION:Online via Zoom
CATEGORIES:Event,Online Workshop,Workshop
ATTACH;FMTTYPE=image/jpeg:https://geminiink.org/wp-content/uploads/2019/11/homepage-footer-1250-x-600-1.jpg
ORGANIZER;CN="Sarah Colby":MAILTO:veteranscollective@geminiink.org
END:VEVENT
BEGIN:VEVENT
DTSTART;TZID=America/Chicago:20260819T070000
DTEND;TZID=America/Chicago:20260819T203000
DTSTAMP:20260419T193245
CREATED:20260326T192113Z
LAST-MODIFIED:20260327T175141Z
UID:14015-1787122800-1787171400@geminiink.org
SUMMARY:The Big Texas Author Talk Featuring Deb Olin Unferth
DESCRIPTION:Join us on Wednesday\, August 19\, 2026\, via Zoom for a conversation with Deb Olin Unferth\, to discuss her new book\, Earth 7: A Novel (Graywolf Press).\n\n\n(Virtual Readings Quarterly @ 7pm CST) \n\n\nRSVP \nDeb Olin Unferth’s latest novel\, Earth 7\, is a bold and imaginative work of climate fiction that explores love\, survival\, and what remains of humanity on a nearly uninhabitable planet. As Earth sits on the brink\, two unlikely figures—a woman raised in an ocean pod and another who may be a robot—form a connection in a world where some have fled to Mars and others seek digital immortality. At once poetic\, strange\, and deeply human\, Earth 7 moves from the vast edges of the cosmos to the microscopic\, asking urgent questions about consciousness\, technology\, and what it means to endure. \n\nAbout the Author\nDeb Olin Unferth is the author of seven books\, including Barn 8 and Wait Till You See Me Dance. She has received a Guggenheim Fellowship and four Pushcart Prizes\, and was a National Book Critics Circle Award finalist. Her work has appeared in Harper’s\, The Paris Review\, Granta\, and McSweeney’s.
URL:https://geminiink.org/events/tbtat-featuring-deb-olin-unferth/
LOCATION:Online via Zoom
CATEGORIES:Event
ATTACH;FMTTYPE=image/jpeg:https://geminiink.org/wp-content/uploads/2026/03/deb-olin-unferth-book-e1774552735446.jpg
ORGANIZER;CN="Mandy Lynn Lara":MAILTO:mllara@geminiink.org
END:VEVENT
BEGIN:VEVENT
DTSTART;TZID=America/Mexico_City:20260819T183000
DTEND;TZID=America/Mexico_City:20260819T203000
DTSTAMP:20260419T193245
CREATED:20191105T075945Z
LAST-MODIFIED:20191105T075945Z
UID:13666-1787164200-1787171400@geminiink.org
SUMMARY:Veterans Writing Collective with Sarah Colby
DESCRIPTION:The Veteran’s Writing Collective (VWC) encourages the art of writing in a workshop environment where participants are offered honest\, positive\, and constructive peer-to-peer and mentor feedback. The workshop is open to all active-duty military\, veterans\, retirees\, and their immediate family members. Writers of all levels working in all genres are welcome. \nThe VWC meets monthly online via Zoom.\nIf you would like an invitation to this class\, send an email to veteranscollective@geminiink.org\n\nSarah Colby was born in northern New Mexico and raised in the Rocky Mountains. She is married to a retired Army Chaplain and is mother to a son in the Navy. Sarah has an MFA in Creative Writing from Sierra Nevada College and an exuberant interest in making the ordinary luminous. Her war-time experiences have motivated her to be a voice for the mostly untold stories of families and loved ones during these years of protracted conflict. She is currently working on a manuscript of poems about her experiences as a military family member.\n \n 
URL:https://geminiink.org/events/veterans-writing-collective-2020-07-15-2021-11-17-2023-08-16-2023-12-20/2026-08-19/
LOCATION:Online via Zoom
CATEGORIES:Event,Online Workshop,Workshop
ATTACH;FMTTYPE=image/jpeg:https://geminiink.org/wp-content/uploads/2019/11/homepage-footer-1250-x-600-1.jpg
ORGANIZER;CN="Sarah Colby":MAILTO:veteranscollective@geminiink.org
END:VEVENT
BEGIN:VEVENT
DTSTART;TZID=America/Chicago:20260820T183000
DTEND;TZID=America/Chicago:20260820T200000
DTSTAMP:20260419T193245
CREATED:20260326T192814Z
LAST-MODIFIED:20260326T192814Z
UID:14024-1787250600-1787256000@geminiink.org
SUMMARY:Open Writers’ Lab Reading & Community Open Mic
DESCRIPTION:Join Gemini Ink as we celebrate the literary artistry of our Open Writers’ Lab members with a community reading and open mic.
URL:https://geminiink.org/events/open-writers-lab-reading/
LOCATION:Gemini Ink\, 1111 Navarro St\, San Antonio\, TX\, 78205\, United States
CATEGORIES:Event
ORGANIZER;CN="Mandy Lynn Lara":MAILTO:mllara@geminiink.org
END:VEVENT
BEGIN:VEVENT
DTSTART;TZID=America/Chicago:20260909T183000
DTEND;TZID=America/Chicago:20260909T200000
DTSTAMP:20260419T193245
CREATED:20260408T142200Z
LAST-MODIFIED:20260408T155716Z
UID:14061-1788978600-1788984000@geminiink.org
SUMMARY:LitMinds Book Club: Art Above Everything
DESCRIPTION:Join us as we read Art Above Everything by Stephanie Elizondo Griest.\n \n\n\n\n  \n\nA new kind of travel writing.\n— Booklist\n…a potent testament to the value of pursuing one’s passion.\n— Publishers Weekly\nA global exploration of what it means to choose a creative life.\nAll artists struggle. But women are especially pushed to give up their creative ambitions\, from societal disapproval against “selfishness” to the pressure (or desire) for children and economic stability. Throughout her 20s and 30s\, Stephanie Elizondo Griest wondered if constantly prioritizing her writing over everything else was leading her to fulfillment or regret. After a brutal break-up and narrowly surviving a health crisis in her early 40s\, she turned to other women for their perspectives on that haunting question: is art enough? \nArt Above Everything documents her travels to 10 nations—from Cuba to Iceland; Rwanda to Qatar—where she meets with legendary painters\, poets\, actors\, dancers\, and musicians who talk intimately about their art\, both what it gifts them and what it costs them. Collectively\, these artists speak dozens of languages and worship a spectrum of faiths\, but their compulsions to create despite financial hardship\, misogyny\, sexual violence\, and family ostracization are wholly akin. Bold and inspiring\, Art Above Everything illuminates the ways we can wield creativity as a vitalizing force. \n\nAbout the Author\n\n\n\n\n\n\n\n\nStephanie Elizondo Griest is a globetrotting author from the Texas/Mexico borderlands and the author of six books\, including Around the Bloc\, Mexican Enough\, All the Agents and Saints\, and Art Above Everything. Her writing has appeared in The New York Times\, The Washington Post\, VQR\, The Believer\, BBC\, Orion\, Lit Hub\, and Oxford American\, and has earned a Margolis Award\, a PEN Southwest Book Award\, an International Latino Book Award\, and two Lowell Thomas Travel Journalism prizes. \nShe is currently Professor of Creative Nonfiction at the University of North Carolina–Chapel Hill. She has traveled to 50 countries and 49 states\, is a cancer survivor now in remission\, and recently endowed Testimonios Fronterizos\, a research grant for borderlands student journalists at the University of Texas at Austin. \n\n\n\n\n\n\n\n\n\nVisit our LitMinds page to see what we’re reading next!
URL:https://geminiink.org/events/litminds-art-above-everything/
LOCATION:Gemini Ink\, 1111 Navarro St\, San Antonio\, TX\, 78205\, United States
CATEGORIES:Event
ATTACH;FMTTYPE=image/jpeg:https://geminiink.org/wp-content/uploads/2026/04/ArtAboveEverything9723-e1775658555151.jpg
ORGANIZER;CN="Mandy Lynn Lara":MAILTO:mllara@geminiink.org
END:VEVENT
BEGIN:VEVENT
DTSTART;TZID=America/Mexico_City:20260916T183000
DTEND;TZID=America/Mexico_City:20260916T203000
DTSTAMP:20260419T193245
CREATED:20191105T075945Z
LAST-MODIFIED:20191105T075945Z
UID:13667-1789583400-1789590600@geminiink.org
SUMMARY:Veterans Writing Collective with Sarah Colby
DESCRIPTION:The Veteran’s Writing Collective (VWC) encourages the art of writing in a workshop environment where participants are offered honest\, positive\, and constructive peer-to-peer and mentor feedback. The workshop is open to all active-duty military\, veterans\, retirees\, and their immediate family members. Writers of all levels working in all genres are welcome. \nThe VWC meets monthly online via Zoom.\nIf you would like an invitation to this class\, send an email to veteranscollective@geminiink.org\n\nSarah Colby was born in northern New Mexico and raised in the Rocky Mountains. She is married to a retired Army Chaplain and is mother to a son in the Navy. Sarah has an MFA in Creative Writing from Sierra Nevada College and an exuberant interest in making the ordinary luminous. Her war-time experiences have motivated her to be a voice for the mostly untold stories of families and loved ones during these years of protracted conflict. She is currently working on a manuscript of poems about her experiences as a military family member.\n \n 
URL:https://geminiink.org/events/veterans-writing-collective-2020-07-15-2021-11-17-2023-08-16-2023-12-20/2026-09-16/
LOCATION:Online via Zoom
CATEGORIES:Event,Online Workshop,Workshop
ATTACH;FMTTYPE=image/jpeg:https://geminiink.org/wp-content/uploads/2019/11/homepage-footer-1250-x-600-1.jpg
ORGANIZER;CN="Sarah Colby":MAILTO:veteranscollective@geminiink.org
END:VEVENT
BEGIN:VEVENT
DTSTART;TZID=America/Mexico_City:20261021T183000
DTEND;TZID=America/Mexico_City:20261021T203000
DTSTAMP:20260419T193245
CREATED:20191105T075945Z
LAST-MODIFIED:20191105T075945Z
UID:13668-1792607400-1792614600@geminiink.org
SUMMARY:Veterans Writing Collective with Sarah Colby
DESCRIPTION:The Veteran’s Writing Collective (VWC) encourages the art of writing in a workshop environment where participants are offered honest\, positive\, and constructive peer-to-peer and mentor feedback. The workshop is open to all active-duty military\, veterans\, retirees\, and their immediate family members. Writers of all levels working in all genres are welcome. \nThe VWC meets monthly online via Zoom.\nIf you would like an invitation to this class\, send an email to veteranscollective@geminiink.org\n\nSarah Colby was born in northern New Mexico and raised in the Rocky Mountains. She is married to a retired Army Chaplain and is mother to a son in the Navy. Sarah has an MFA in Creative Writing from Sierra Nevada College and an exuberant interest in making the ordinary luminous. Her war-time experiences have motivated her to be a voice for the mostly untold stories of families and loved ones during these years of protracted conflict. She is currently working on a manuscript of poems about her experiences as a military family member.\n \n 
URL:https://geminiink.org/events/veterans-writing-collective-2020-07-15-2021-11-17-2023-08-16-2023-12-20/2026-10-21/
LOCATION:Online via Zoom
CATEGORIES:Event,Online Workshop,Workshop
ATTACH;FMTTYPE=image/jpeg:https://geminiink.org/wp-content/uploads/2019/11/homepage-footer-1250-x-600-1.jpg
ORGANIZER;CN="Sarah Colby":MAILTO:veteranscollective@geminiink.org
END:VEVENT
BEGIN:VEVENT
DTSTART;TZID=America/Mexico_City:20261118T183000
DTEND;TZID=America/Mexico_City:20261118T203000
DTSTAMP:20260419T193245
CREATED:20191105T075945Z
LAST-MODIFIED:20191105T075945Z
UID:13669-1795026600-1795033800@geminiink.org
SUMMARY:Veterans Writing Collective with Sarah Colby
DESCRIPTION:The Veteran’s Writing Collective (VWC) encourages the art of writing in a workshop environment where participants are offered honest\, positive\, and constructive peer-to-peer and mentor feedback. The workshop is open to all active-duty military\, veterans\, retirees\, and their immediate family members. Writers of all levels working in all genres are welcome. \nThe VWC meets monthly online via Zoom.\nIf you would like an invitation to this class\, send an email to veteranscollective@geminiink.org\n\nSarah Colby was born in northern New Mexico and raised in the Rocky Mountains. She is married to a retired Army Chaplain and is mother to a son in the Navy. Sarah has an MFA in Creative Writing from Sierra Nevada College and an exuberant interest in making the ordinary luminous. Her war-time experiences have motivated her to be a voice for the mostly untold stories of families and loved ones during these years of protracted conflict. She is currently working on a manuscript of poems about her experiences as a military family member.\n \n 
URL:https://geminiink.org/events/veterans-writing-collective-2020-07-15-2021-11-17-2023-08-16-2023-12-20/2026-11-18/
LOCATION:Online via Zoom
CATEGORIES:Event,Online Workshop,Workshop
ATTACH;FMTTYPE=image/jpeg:https://geminiink.org/wp-content/uploads/2019/11/homepage-footer-1250-x-600-1.jpg
ORGANIZER;CN="Sarah Colby":MAILTO:veteranscollective@geminiink.org
END:VEVENT
BEGIN:VEVENT
DTSTART;TZID=America/Mexico_City:20261216T183000
DTEND;TZID=America/Mexico_City:20261216T203000
DTSTAMP:20260419T193245
CREATED:20191105T075945Z
LAST-MODIFIED:20191105T075945Z
UID:13670-1797445800-1797453000@geminiink.org
SUMMARY:Veterans Writing Collective with Sarah Colby
DESCRIPTION:The Veteran’s Writing Collective (VWC) encourages the art of writing in a workshop environment where participants are offered honest\, positive\, and constructive peer-to-peer and mentor feedback. The workshop is open to all active-duty military\, veterans\, retirees\, and their immediate family members. Writers of all levels working in all genres are welcome. \nThe VWC meets monthly online via Zoom.\nIf you would like an invitation to this class\, send an email to veteranscollective@geminiink.org\n\nSarah Colby was born in northern New Mexico and raised in the Rocky Mountains. She is married to a retired Army Chaplain and is mother to a son in the Navy. Sarah has an MFA in Creative Writing from Sierra Nevada College and an exuberant interest in making the ordinary luminous. Her war-time experiences have motivated her to be a voice for the mostly untold stories of families and loved ones during these years of protracted conflict. She is currently working on a manuscript of poems about her experiences as a military family member.\n \n 
URL:https://geminiink.org/events/veterans-writing-collective-2020-07-15-2021-11-17-2023-08-16-2023-12-20/2026-12-16/
LOCATION:Online via Zoom
CATEGORIES:Event,Online Workshop,Workshop
ATTACH;FMTTYPE=image/jpeg:https://geminiink.org/wp-content/uploads/2019/11/homepage-footer-1250-x-600-1.jpg
ORGANIZER;CN="Sarah Colby":MAILTO:veteranscollective@geminiink.org
END:VEVENT
END:VCALENDAR