BEGIN:VCALENDAR
VERSION:2.0
PRODID:-//Gemini Ink - ECPv6.3.0//NONSGML v1.0//EN
CALSCALE:GREGORIAN
METHOD:PUBLISH
X-ORIGINAL-URL:https://geminiink.org
X-WR-CALDESC:Events for Gemini Ink
REFRESH-INTERVAL;VALUE=DURATION:PT1H
X-Robots-Tag:noindex
X-PUBLISHED-TTL:PT1H
BEGIN:VTIMEZONE
TZID:America/Mexico_City
BEGIN:DAYLIGHT
TZOFFSETFROM:-0600
TZOFFSETTO:-0500
TZNAME:CDT
DTSTART:20240407T080000
END:DAYLIGHT
BEGIN:STANDARD
TZOFFSETFROM:-0500
TZOFFSETTO:-0600
TZNAME:CST
DTSTART:20241027T070000
END:STANDARD
END:VTIMEZONE
BEGIN:VEVENT
DTSTART;TZID=America/Mexico_City:20241109T100000
DTEND;TZID=America/Mexico_City:20241109T130000
DTSTAMP:20260421T105926
CREATED:20240815T181923Z
LAST-MODIFIED:20241107T172842Z
UID:10613-1731146400-1731157200@geminiink.org
SUMMARY:To Praise the Ruined World with Sheila Black 
DESCRIPTION:Saturday\, November 9\, 2024\, 10am-1pm CST\, online via Zoom\nInstructor: Sheila Black\nNonmember: $140; Member: $120; Student/Educator/Mil $75 \n*EARN CPE’S\n \n  \nWe are living through hard times – and on a global scale. From political unrest to wars to climate change\, it is hard not to see the sorrow and suffering around us. Yet in difficult times\, the human impulse toward praise and celebration can provide unexpected ways of understanding\, empathizing\, and finding a way forward.   \nIn this one-day workshop\, we will read poems by Naomi Shihab Nye\, Adam Zagajewski\, Frank O’Hara\, Roger Reeves\, January Gil O’Neil\, and others that demonstrate how praise can be a tool for understanding and transcending even the hardest truths.  We will explore how these poets craft praise songs that acknowledge life’s sorrows and losses. We will then write our poems of recovery and resilience.  \nThis course is open to writers of all skill levels\, 18+.  \nIn this workshop\, students will: \n\nDraft several new written works\nUncover the power of praise as a fundamental writing tool\nBroaden their awareness of how contemporary poets address difficult topics\n\nRead Sheila’s Writer’s Desk Q&A!\n\nSheila Black is the author of five poetry collections\, most recently Radium Dream from Salmon Poetry\, Ireland. Poems and essays have appeared in Poetry\, Ploughshares\, The Nation\, The New York Times\, and elsewhere. She is a co-editor of Beauty is a Verb: The New Poetry of Disability. Honors include a 2012 Witter Bynner Fellowship from the Library of Congress for which she was selected by Philip Levine. She lives in San Antonio\, TX and Tempe\, AZ where she is assistant director of the Virginia G. Piper Center for Creative Writing at Arizona State University (ASU).
URL:https://geminiink.org/events/to-praise-the-ruined-world/
LOCATION:Online via Zoom
CATEGORIES:Online Workshop,Workshop
ATTACH;FMTTYPE=image/jpeg:https://geminiink.org/wp-content/uploads/2024/08/sheila.jpg
ORGANIZER;CN="Mandy Lynn Lara":MAILTO:mllara@geminiink.org
END:VEVENT
BEGIN:VEVENT
DTSTART;TZID=America/Mexico_City:20241114T183000
DTEND;TZID=America/Mexico_City:20241114T203000
DTSTAMP:20260421T105926
CREATED:20240815T165536Z
LAST-MODIFIED:20241023T184227Z
UID:10596-1731609000-1731616200@geminiink.org
SUMMARY:What Happens Inside: A Body Horror Workshop with Leticia Urieta
DESCRIPTION:Thursdays\, November 14 & 21\, 2024\, 6:30-8:30pm CST\, via Zoom\nInstructor: Leticia Urieta\nNonmember: $150; Member: $130; Student/Educator/Mil $75 \n*EARN CPE’S\nTWO SCHOLARSHIPS AVAILABLE\n \n  \nWhen it comes to our bodies\, there is little we fear more than the inevitability that our bodies will change\, can fall ill\, and will die. Body horror helps us to write about the absurdity\, beauty\, and horror of being corporeal.  \nThis two-session virtual workshop will focus on reading and discussing stories of body horror that affect us and engage with stories of illness\, trauma\, loss\, power\, monstrousness\, and reclamation. We will also discuss how these stories can inspire our own. In this generative workshop\, we will engage with multiple activities inviting us to write and share our own body horror stories. \nThis class is open to writers of all skill levels 16+. \nBy the end of the class\, students will have:  \n\nDraft 1-2 new pieces based on sample readings and class discussion\nGain new insights into various genres\, from horror to speculative imaginings\, to apply to their future writing.\nCome away with an expanded knowledge of contemporary genres.\n\n\nLeticia Urieta is a Tejana writer from Austin\, TX. Leticia is a graduate of Agnes Scott College with a BA in English/Creative Writing and holds an MFA in Fiction writing from Texas State University. \nShe works as a teaching artist in the Austin community. She is also the Program Director for Austin Bat Cave and the Director of Barrio Writers in Austin and Pflugerville\, a free college-level youth writers workshop founded by author and activist Sarah Rafael Garcia in Santa Ana\, CA. \nHer creative work appears in PANK\, Chicon Street Poets\, Lumina\, and many others. Her fiction explores the intersections of Latinx identity with folklore\, traditional stories\, and the supernatural or speculative. Her mixed-genre collection of poetry and prose\, Las Criaturas\, was published with FlowerSong Press in November 2021 and was a finalist for the Sergio Troncoso Award for Best First Book of Fiction 2022 from the Texas Institute of Letters and a finalist for the 2024 Next Generation Indie Book Awards for Short Story Collections. \nLeticia loves living in Austin with her husband and aging chihuahua\, who are terrible work distractions. Despite all this\, she is fueled by sushi and breaks to watch pug videos on Instagram. \n 
URL:https://geminiink.org/events/what-happens-inside/
LOCATION:Online via Zoom
CATEGORIES:Online Workshop,Workshop
ATTACH;FMTTYPE=image/jpeg:https://geminiink.org/wp-content/uploads/2024/08/464338226_1450123239274741_649075157090561775_n.jpg
ORGANIZER;CN="Mandy Lynn Lara":MAILTO:mllara@geminiink.org
END:VEVENT
BEGIN:VEVENT
DTSTART;TZID=America/Mexico_City:20241120T183000
DTEND;TZID=America/Mexico_City:20241120T203000
DTSTAMP:20260421T105926
CREATED:20191105T075945Z
LAST-MODIFIED:20251006T163803Z
UID:9489-1732127400-1732134600@geminiink.org
SUMMARY:Veterans Writing Collective with Sarah Colby
DESCRIPTION:The Veteran’s Writing Collective (VWC) encourages the art of writing in a workshop environment where participants are offered honest\, positive\, and constructive peer-to-peer and mentor feedback. The workshop is open to all active-duty military\, veterans\, retirees\, and their immediate family members. Writers of all levels working in all genres are welcome. \nThe VWC meets monthly online via Zoom.\nIf you would like an invitation to this class\, send an email to veteranscollective@geminiink.org\n\nSarah Colby was born in northern New Mexico and raised in the Rocky Mountains. She is married to a retired Army Chaplain and is mother to a son in the Navy. Sarah has an MFA in Creative Writing from Sierra Nevada College and an exuberant interest in making the ordinary luminous. Her war-time experiences have motivated her to be a voice for the mostly untold stories of families and loved ones during these years of protracted conflict. She is currently working on a manuscript of poems about her experiences as a military family member.\n \n 
URL:https://geminiink.org/events/veterans-writing-collective-2020-07-15-2021-11-17-2023-08-16-2023-12-20/2024-11-20/
LOCATION:Online via Zoom
CATEGORIES:Event,Online Workshop,Workshop
ATTACH;FMTTYPE=image/jpeg:https://geminiink.org/wp-content/uploads/2019/11/homepage-footer-1250-x-600-1.jpg
ORGANIZER;CN="Sarah Colby":MAILTO:veteranscollective@geminiink.org
END:VEVENT
END:VCALENDAR