BEGIN:VCALENDAR
VERSION:2.0
PRODID:-//Gemini Ink - ECPv6.3.0//NONSGML v1.0//EN
CALSCALE:GREGORIAN
METHOD:PUBLISH
X-WR-CALNAME:Gemini Ink
X-ORIGINAL-URL:https://geminiink.org
X-WR-CALDESC:Events for Gemini Ink
REFRESH-INTERVAL;VALUE=DURATION:PT1H
X-Robots-Tag:noindex
X-PUBLISHED-TTL:PT1H
BEGIN:VTIMEZONE
TZID:America/Mexico_City
BEGIN:DAYLIGHT
TZOFFSETFROM:-0600
TZOFFSETTO:-0500
TZNAME:CDT
DTSTART:20240407T080000
END:DAYLIGHT
BEGIN:STANDARD
TZOFFSETFROM:-0500
TZOFFSETTO:-0600
TZNAME:CST
DTSTART:20241027T070000
END:STANDARD
END:VTIMEZONE
BEGIN:VEVENT
DTSTART;TZID=America/Mexico_City:20241207T100000
DTEND;TZID=America/Mexico_City:20241207T143000
DTSTAMP:20260421T092748
CREATED:20240815T172521Z
LAST-MODIFIED:20241207T192735Z
UID:10601-1733565600-1733581800@geminiink.org
SUMMARY:Get Inside Your Character’s Head: Effective Storytelling Across Genres with Daniel Peña
DESCRIPTION:Dec 7 & 8\, via Zoom\nSat: 10am-2:30pm CST\, (incl 30-minute lunch); Sun: 10am-1pm CST\nInstructor: Daniel Peña\nNonmember: $155; Member: $135; Student/Educator/Mil $75 \n  \n  \nAs the great Henry James once shared\, a story should never be just a story\, meaning it should rarely be just an anecdote. Rather\, it should show some true essence of the story’s character and explore fundamental shifts in that character’s psyche from the beginning of the story to the end.   \nIn this 2-day multi-genre generative workshop\, we will explore how to uncover a character’s fundamental truth and use it to shape a strong protagonist who creates persona-driven fiction\, poetry\, and non-fiction. We will also look at how to create shifts in character that make for exciting epiphanies and conclusions that land like lightning bolts on the page. Participants will also practice blending genres to create singular forms that best fit the story they are trying to tell. \nThis is a great crash course for those just getting their sea legs in storytelling concepts and the fundamentals of poetry alike. This course is open to beginning writers of all skill levels\, 18+.  \nIn this workshop\, students will: \n\nDraft new written works\nStrategies for creating character-driven writing\nExperiment with blending genres to create a more powerful story\n\n\nDaniel Peña is a Pushcart Prize-winning writer and Associate Professor at the University of North Texas\, where he teaches in the PhD Program in Creative Writing.  Peña worked as a Fulbright-Garcia Robles Scholar. A graduate of Cornell University and a former Picador Guest Professor in Leipzig\, Germany\, his writing has appeared in Ploughshares\, The Rumpus\, The Kenyon Review\, Texas Monthly\, NBC News\, and The New York Times Magazines. He’s currently a regular contributor to The Guardian and The Ploughshare blog. His novel\, Bang\, is out now from Arte Publico Press. He lives in the beautiful Dallas-Fort Worth area.
URL:https://geminiink.org/events/get-inside-your-characters-head/
LOCATION:Online via Zoom
CATEGORIES:Online Workshop
ATTACH;FMTTYPE=image/png:https://geminiink.org/wp-content/uploads/2024/08/FA24-Daniel-Pena-e1733428635701.png
ORGANIZER;CN="Mandy Lynn Lara":MAILTO:mllara@geminiink.org
END:VEVENT
BEGIN:VEVENT
DTSTART;TZID=America/Mexico_City:20241218T183000
DTEND;TZID=America/Mexico_City:20241218T203000
DTSTAMP:20260421T092748
CREATED:20191105T075945Z
LAST-MODIFIED:20251006T163804Z
UID:9490-1734546600-1734553800@geminiink.org
SUMMARY:Veterans Writing Collective with Sarah Colby
DESCRIPTION:The Veteran’s Writing Collective (VWC) encourages the art of writing in a workshop environment where participants are offered honest\, positive\, and constructive peer-to-peer and mentor feedback. The workshop is open to all active-duty military\, veterans\, retirees\, and their immediate family members. Writers of all levels working in all genres are welcome. \nThe VWC meets monthly online via Zoom.\nIf you would like an invitation to this class\, send an email to veteranscollective@geminiink.org\n\nSarah Colby was born in northern New Mexico and raised in the Rocky Mountains. She is married to a retired Army Chaplain and is mother to a son in the Navy. Sarah has an MFA in Creative Writing from Sierra Nevada College and an exuberant interest in making the ordinary luminous. Her war-time experiences have motivated her to be a voice for the mostly untold stories of families and loved ones during these years of protracted conflict. She is currently working on a manuscript of poems about her experiences as a military family member.\n \n 
URL:https://geminiink.org/events/veterans-writing-collective-2020-07-15-2021-11-17-2023-08-16-2023-12-20/2024-12-18/
LOCATION:Online via Zoom
CATEGORIES:Event,Online Workshop,Workshop
ATTACH;FMTTYPE=image/jpeg:https://geminiink.org/wp-content/uploads/2019/11/homepage-footer-1250-x-600-1.jpg
ORGANIZER;CN="Sarah Colby":MAILTO:veteranscollective@geminiink.org
END:VEVENT
END:VCALENDAR