BEGIN:VCALENDAR
VERSION:2.0
PRODID:-//Gemini Ink - ECPv6.3.0//NONSGML v1.0//EN
CALSCALE:GREGORIAN
METHOD:PUBLISH
X-WR-CALNAME:Gemini Ink
X-ORIGINAL-URL:https://geminiink.org
X-WR-CALDESC:Events for Gemini Ink
REFRESH-INTERVAL;VALUE=DURATION:PT1H
X-Robots-Tag:noindex
X-PUBLISHED-TTL:PT1H
BEGIN:VTIMEZONE
TZID:America/Mexico_City
BEGIN:DAYLIGHT
TZOFFSETFROM:-0600
TZOFFSETTO:-0500
TZNAME:CDT
DTSTART:20240407T080000
END:DAYLIGHT
BEGIN:STANDARD
TZOFFSETFROM:-0500
TZOFFSETTO:-0600
TZNAME:CST
DTSTART:20241027T070000
END:STANDARD
END:VTIMEZONE
BEGIN:VEVENT
DTSTART;TZID=America/Mexico_City:20241114T183000
DTEND;TZID=America/Mexico_City:20241114T203000
DTSTAMP:20260421T123211
CREATED:20240815T165536Z
LAST-MODIFIED:20241023T184227Z
UID:10596-1731609000-1731616200@geminiink.org
SUMMARY:What Happens Inside: A Body Horror Workshop with Leticia Urieta
DESCRIPTION:Thursdays\, November 14 & 21\, 2024\, 6:30-8:30pm CST\, via Zoom\nInstructor: Leticia Urieta\nNonmember: $150; Member: $130; Student/Educator/Mil $75 \n*EARN CPE’S\nTWO SCHOLARSHIPS AVAILABLE\n \n  \nWhen it comes to our bodies\, there is little we fear more than the inevitability that our bodies will change\, can fall ill\, and will die. Body horror helps us to write about the absurdity\, beauty\, and horror of being corporeal.  \nThis two-session virtual workshop will focus on reading and discussing stories of body horror that affect us and engage with stories of illness\, trauma\, loss\, power\, monstrousness\, and reclamation. We will also discuss how these stories can inspire our own. In this generative workshop\, we will engage with multiple activities inviting us to write and share our own body horror stories. \nThis class is open to writers of all skill levels 16+. \nBy the end of the class\, students will have:  \n\nDraft 1-2 new pieces based on sample readings and class discussion\nGain new insights into various genres\, from horror to speculative imaginings\, to apply to their future writing.\nCome away with an expanded knowledge of contemporary genres.\n\n\nLeticia Urieta is a Tejana writer from Austin\, TX. Leticia is a graduate of Agnes Scott College with a BA in English/Creative Writing and holds an MFA in Fiction writing from Texas State University. \nShe works as a teaching artist in the Austin community. She is also the Program Director for Austin Bat Cave and the Director of Barrio Writers in Austin and Pflugerville\, a free college-level youth writers workshop founded by author and activist Sarah Rafael Garcia in Santa Ana\, CA. \nHer creative work appears in PANK\, Chicon Street Poets\, Lumina\, and many others. Her fiction explores the intersections of Latinx identity with folklore\, traditional stories\, and the supernatural or speculative. Her mixed-genre collection of poetry and prose\, Las Criaturas\, was published with FlowerSong Press in November 2021 and was a finalist for the Sergio Troncoso Award for Best First Book of Fiction 2022 from the Texas Institute of Letters and a finalist for the 2024 Next Generation Indie Book Awards for Short Story Collections. \nLeticia loves living in Austin with her husband and aging chihuahua\, who are terrible work distractions. Despite all this\, she is fueled by sushi and breaks to watch pug videos on Instagram. \n 
URL:https://geminiink.org/events/what-happens-inside/
LOCATION:Online via Zoom
CATEGORIES:Online Workshop,Workshop
ATTACH;FMTTYPE=image/jpeg:https://geminiink.org/wp-content/uploads/2024/08/464338226_1450123239274741_649075157090561775_n.jpg
ORGANIZER;CN="Mandy Lynn Lara":MAILTO:mllara@geminiink.org
END:VEVENT
END:VCALENDAR