BEGIN:VCALENDAR
VERSION:2.0
PRODID:-//Gemini Ink - ECPv6.3.0//NONSGML v1.0//EN
CALSCALE:GREGORIAN
METHOD:PUBLISH
X-WR-CALNAME:Gemini Ink
X-ORIGINAL-URL:https://geminiink.org
X-WR-CALDESC:Events for Gemini Ink
REFRESH-INTERVAL;VALUE=DURATION:PT1H
X-Robots-Tag:noindex
X-PUBLISHED-TTL:PT1H
BEGIN:VTIMEZONE
TZID:America/Mexico_City
BEGIN:DAYLIGHT
TZOFFSETFROM:-0600
TZOFFSETTO:-0500
TZNAME:CDT
DTSTART:20240407T080000
END:DAYLIGHT
BEGIN:STANDARD
TZOFFSETFROM:-0500
TZOFFSETTO:-0600
TZNAME:CST
DTSTART:20241027T070000
END:STANDARD
END:VTIMEZONE
BEGIN:VEVENT
DTSTART;TZID=America/Mexico_City:20240221T190000
DTEND;TZID=America/Mexico_City:20240221T203000
DTSTAMP:20260419T223035
CREATED:20231204T202628Z
LAST-MODIFIED:20240122T234400Z
UID:9466-1708542000-1708547400@geminiink.org
SUMMARY:The Big Texas Author Talk featuring Mag Gabbert
DESCRIPTION:A Free Monthly Online Lecture Series from WritingWorkshops.com & Gemini Ink\nWednesday\, February 21st\, 2024 via Zoom @ 7PM CST\n\nRSVP\nUp Next: Poet & Essayist Mag Gabbert and her poetry collection\, SEX DEPRESSION ANIMALS. This discussion will be moderated by poet Séamus Fey.\nABOUT SEX DEPRESSION ANIMALS\n\n“This bewitching debut delivers everything the title promises and more.” –Electric Literature \nIn SEX DEPRESSION ANIMALS\, which was selected by Kathy Fagan as the winner of the 2021 Charles B. Wheeler Prize in Poetry\, Mag Gabbert redefines the bestiary in fiery\, insistent\, and resistant terms. These poems recast the traumas of her adolescence while charting new paths toward linguistic and bodily autonomy as an adult. Using dreamlike\, shimmering imagery\, she pieces together a fractured portrait of femininity—one that electrifies the confessional mode with its formal play and rich curiosity. Gabbert examines the origin of shame\, the role of inheritance\, and what counts as a myth\, asking\, “What’s the opposite of a man? / A woman? A wound? The devil’s image?”\n\n  \nABOUT MAG GABBERT\nMag Gabbert is the author of SEX DEPRESSION ANIMALS (Mad Creek Books\, 2023)\, which was selected by Kathy Fagan as the winner of the 2021 Charles B. Wheeler Prize in Poetry; the chapbook The Breakup\, which was selected by Kaveh Akbar as the winner of the 2022 Baltic Writing Residencies Chapbook Award; and the chapbook Minml Poems (Cooper Dillon Books\, 2020). Her awards include a Discovery Award from 92NY’s Unterberg Poetry Center\, a Pushcart Prize\, and fellowships from the Kenyon Review Writers Workshop\, Idyllwild Arts\, and Poetry at Round Top. Mag’s work can also be found in The American Poetry Review\, The Paris Review Daily\, Copper Nickel\, Guernica\, Poetry Daily\, and elsewhere. Mag has an MFA from UC Riverside and a PhD from Texas Tech. She lives in Dallas\, Texas and teaches at Southern Methodist University. \nABOUT S.FEY\nS. Fey (they/he) is a Trans writer living in LA. Currently\, they are the poetry editor at Hooligan Magazine\, and co creative director at Rock Pocket Productions. Their debut poetry collection\, decompose\, is out with Not a Cult Media. His work has appeared in American Poetry Review\, Poet Lore\, The Sonora Review\, and others. They love to beat their friends at Mario Party. Find them online @sfeycreates.
URL:https://geminiink.org/events/the-big-texas-author-talk-featuring-mag-gabbert/
LOCATION:Online via Zoom
CATEGORIES:Event
ATTACH;FMTTYPE=image/png:https://geminiink.org/wp-content/uploads/2024/01/Mag-Gabbert.png
ORGANIZER;CN="Alexandra van de Kamp":MAILTO:avandekamp@geminiink.org
END:VEVENT
END:VCALENDAR