BEGIN:VCALENDAR
VERSION:2.0
PRODID:-//Gemini Ink - ECPv6.3.0//NONSGML v1.0//EN
CALSCALE:GREGORIAN
METHOD:PUBLISH
X-ORIGINAL-URL:https://geminiink.org
X-WR-CALDESC:Events for Gemini Ink
REFRESH-INTERVAL;VALUE=DURATION:PT1H
X-Robots-Tag:noindex
X-PUBLISHED-TTL:PT1H
BEGIN:VTIMEZONE
TZID:America/Mexico_City
BEGIN:DAYLIGHT
TZOFFSETFROM:-0600
TZOFFSETTO:-0500
TZNAME:CDT
DTSTART:20230402T080000
END:DAYLIGHT
BEGIN:STANDARD
TZOFFSETFROM:-0500
TZOFFSETTO:-0600
TZNAME:CST
DTSTART:20231029T070000
END:STANDARD
END:VTIMEZONE
BEGIN:VEVENT
DTSTART;TZID=America/Mexico_City:20230121T100000
DTEND;TZID=America/Mexico_City:20230121T120000
DTSTAMP:20260420T075921
CREATED:20221212T195935Z
LAST-MODIFIED:20230119T013906Z
UID:7914-1674295200-1674302400@geminiink.org
SUMMARY:Musicality and the Long Poem with Allison Hedge Coke
DESCRIPTION:Saturdays\, January 21\, 28 &  February 4\, 10am-12pm\, CST\, offered via Zoom\nInstructor: Allison Hedge Coke\nNonmember: $140; Member: $120; Student/Vet/Mil $75\nThis course is open to writers of all skill levels. \n*EARN CPE’S\nSCHOLARSHIPS AVAILABLE. \nClass Full. Email joshua@geminiink.org to add your name to the Wait List.\nMusic is a powerful force that moves us. It is also a treasure chest of tools that can breathe life and potency into poetry.     \nIn this workshop led by American Book Award winner Allison Hedge Coke\, we will study musical genres\, influences\, and elements that will develop our knowledge of structure and momentum and our musical ear so that we can infuse our lines with lyricism\, sound\, and rhythm from beginning to end.  We will explore how playing with cadence\, tone\, and sonic delivery creates memorable lines and infuses a long poem with dynamic movement. \nIn this class you will :  \n\nGain an understanding of how musical structures can be used in long poetry\nLearn to apply elements of sound to make lines pop\nPrepare for publication/production/performance with musicality as lead line and base structure.\n\nAllison Hedge Coke will be featured on The Big Texas Read on Wed\, Jan 18th. We’re talking with Hedge Coke about her book-length poem\, Look At This Blue\, Finalist for the 2022 National Book Award. RSVP https://bit.ly/3A0XejH\n\nAllison Adelle Hedge Coke was born in Texas and raised in North Carolina\, Canada\, and on the Great Plains. Of mixed heritage\, she is a poet\, writer\, and educator. Though she left school to work in the fields as a child\, she later took advantage of tuition-free community ed classes at North Carolina State University while a field worker. She left North Carolina\, escaping domestic violence as a young mother\, and enrolled in former field worker retraining on the West coast when leaving manual labor due to disability. She then studied script\, performance and sound/light/film tech at Estelle Harmon’s Actor’s Workshop\, earned an AFAW in creative writing on the old Institute for American Indian Arts campus in Santa Fe\, attended two Jack Kerouac School of Disembodied Poetics Summer Writing Programs\, and earned an MFA from Vermont College (1995)\, where she stayed for post-grad work. \nShe is the author of the poetry chapbook Year of the Rat (1996); the full-length poetry collections Dog Road Woman (1997)\, Off-Season City Pipe (2005)\, Blood Run (2006 UK\, 2007 US)\, Streaming (2014)\, an illustrated (by Dustin Illetewahke Mater) special edition Burn (2017); and the memoir Rock\, Ghost\, Willow\, Deer (2004\, 2014). Streaming includes a full album recorded in the Rd Klā project period with Kelvyn Bell and Laura Ortman. One inclusion was selected by Motion Poems and Pixel Farms to be made into an animated film and several of the poems in Streaming also influenced the documentary project she directed\, Red Dust. \n 
URL:https://geminiink.org/events/musicality-and-the-long-poem/
LOCATION:Online via Zoom
CATEGORIES:Online Workshop,Workshop
ATTACH;FMTTYPE=image/jpeg:https://geminiink.org/wp-content/uploads/2022/12/Allison-Hedge-Coke-Teaches-Musicality-and-the-Long-Poem-Facebook-Post-Landscape.jpeg
ORGANIZER;CN="Mandy Lynn Lara":MAILTO:mllara@geminiink.org
END:VEVENT
END:VCALENDAR