BEGIN:VCALENDAR
VERSION:2.0
PRODID:-//Gemini Ink - ECPv6.3.0//NONSGML v1.0//EN
CALSCALE:GREGORIAN
METHOD:PUBLISH
X-ORIGINAL-URL:https://geminiink.org
X-WR-CALDESC:Events for Gemini Ink
REFRESH-INTERVAL;VALUE=DURATION:PT1H
X-Robots-Tag:noindex
X-PUBLISHED-TTL:PT1H
BEGIN:VTIMEZONE
TZID:America/Mexico_City
BEGIN:DAYLIGHT
TZOFFSETFROM:-0600
TZOFFSETTO:-0500
TZNAME:CDT
DTSTART:20230402T080000
END:DAYLIGHT
BEGIN:STANDARD
TZOFFSETFROM:-0500
TZOFFSETTO:-0600
TZNAME:CST
DTSTART:20231029T070000
END:STANDARD
END:VTIMEZONE
BEGIN:VEVENT
DTSTART;TZID=America/Mexico_City:20230204T100000
DTEND;TZID=America/Mexico_City:20230204T120000
DTSTAMP:20260420T062732
CREATED:20221214T181605Z
LAST-MODIFIED:20230128T002311Z
UID:7925-1675504800-1675512000@geminiink.org
SUMMARY:Undressing the Secrets to Writing About the Erotic in Poetry with John Olivares Espinoza
DESCRIPTION:Saturdays\, February 4 & 11\, 10am-12pm\, CST\, hybrid (via Zoom and in-person)\nInstructor: John Olivares Espinoza\nNonmember: $140; Member: $120; Student/Vet/Mil $75\n \n*EARN CPE’S\nSCHOLARSHIPS AVAILABLE. \n\n \n\nWould you like to have a sexy poem for that special someone by Valentine’s Day? Or maybe you’d like to gift it to yourself? \nThis course will focus on how to write poetry about love\, eroticism\, and sex without crossing into cheesy\, hackneyed\, and pornographic red zones. Through examination of poetry ranging from ancient Greece to the best contemporary pieces\, we will study techniques poets use to create erotic imagery with skill and taste—without leaving out the spice– and use these tools to generate an original poem. Participants will receive constructive critique on their poems focused on how to apply and reinforce the techniques studied to capture love\, desire\, heartbreak\, or sex in an exciting and fresh way.  \nThe takeaways from this course: \n\nExperience breaking apart poems in order to collect techniques\, strategies\, and moves to use in your own work\nA selection of writing prompts to continue your momentum after the course\nA fully developed poem by Valentine’s Day\n\nWho is this workshop for? \nThis workshop is designed for writers of all skill levels. Prose writers are welcome. Given the nature of the subject matter and language used\, we suggest this workshop for participants 18 years or older. \nGet to know John ahead of his class at his Writer’s Desk.\n\nJohn Olivares Espinoza has degrees in creative writing from the University of California\, Riverside (BA) and Arizona State University (MFA). His poetry collection\, The Date Fruit Elegies\, was a finalist for the Northern California Book Award in Poetry. Other honors include a grant from the Elizabeth George Foundation\, a Daisy Soros Fellowship for New Americans\, and first prize in the Swan Scythe Press Chapbook Contest. John’s poetry has appeared in Air/Light Magazine\, Alta Journal\, American Poetry Review\, New Letters\, ZYZZYVA\, and various anthologies. Follow Espinoza on Twitter @JohnEspinoza\, and Instagram @thepoetjohnespinoza. \n\nParking at Gemini Ink \nGemini Ink offers free parking along the back wall of our downtown offices. Please access this parking lot from Augusta St and first park in any of the 12 spots along the back wall. Only when these 12 spots are full do we ask that you park elsewhere in our lot. We now rent our offices from UTSA and are collaborating with them to create a secure and accessible parking lot for our community of writers and readers.
URL:https://geminiink.org/events/writing-the-erotic-in-poetry/
LOCATION:Gemini Ink\, 1111 Navarro St\, San Antonio\, TX\, 78205\, United States
CATEGORIES:Online Workshop,Workshop
ATTACH;FMTTYPE=image/jpeg:https://geminiink.org/wp-content/uploads/2022/12/Olivares-Facebook-Event-Cover.jpeg
ORGANIZER;CN="Mandy Lynn Lara":MAILTO:mllara@geminiink.org
END:VEVENT
END:VCALENDAR