BEGIN:VCALENDAR
VERSION:2.0
PRODID:-//Gemini Ink - ECPv6.3.0//NONSGML v1.0//EN
CALSCALE:GREGORIAN
METHOD:PUBLISH
X-ORIGINAL-URL:https://geminiink.org
X-WR-CALDESC:Events for Gemini Ink
REFRESH-INTERVAL;VALUE=DURATION:PT1H
X-Robots-Tag:noindex
X-PUBLISHED-TTL:PT1H
BEGIN:VTIMEZONE
TZID:America/Chicago
BEGIN:DAYLIGHT
TZOFFSETFROM:-0600
TZOFFSETTO:-0500
TZNAME:CDT
DTSTART:20260308T080000
END:DAYLIGHT
BEGIN:STANDARD
TZOFFSETFROM:-0500
TZOFFSETTO:-0600
TZNAME:CST
DTSTART:20261101T070000
END:STANDARD
END:VTIMEZONE
BEGIN:VEVENT
DTSTART;TZID=America/Chicago:20260206T190000
DTEND;TZID=America/Chicago:20260206T210000
DTSTAMP:20260423T102614
CREATED:20260130T162752Z
LAST-MODIFIED:20260130T180108Z
UID:13782-1770404400-1770411600@geminiink.org
SUMMARY:In Conversation with Katie Gutierrez
DESCRIPTION:Join us for In conversation with Katie Gutierrez at the Maverick Carter House on Friday\, February 6 at 7pm presented by UT San Antonio Creative Writing Program in partnership with Gemini Ink. \nKatie Gutierrez is the bestselling author of the mystery novel More Than You’ll Ever Know\, a Good Morning America Book Club pick and Edgar Award finalist. Her essays and features have appeared in TIME\, Texas Highways\, Harper’s Bazaar\, and more. She has an MFA from Texas State University and lives in San Antonio\, Texas. Gutierrez will read from her work and share her approach to writing in conversation with Dr. Kimberly Garza. An audience Q&A and book signing will follow. This event is free and open to the public. Refreshments will be provided. \nLocation: The Maverick Carter House\, 119 Taylor St.\, San Antonio 78205
URL:https://geminiink.org/events/in-conversation-with-katie-gutierrez/
LOCATION:Maverick Carter House\, 119 Taylor St\, San Antonio\, 78205
CATEGORIES:Event
ATTACH;FMTTYPE=image/jpeg:https://geminiink.org/wp-content/uploads/2026/01/Katie-Gutierrez-Facebook.jpg
ORGANIZER;CN="UTSA Arts":MAILTO:Breanna.Castillo@utsa.edu
END:VEVENT
END:VCALENDAR