BEGIN:VCALENDAR
VERSION:2.0
PRODID:-//Gemini Ink - ECPv6.3.0//NONSGML v1.0//EN
CALSCALE:GREGORIAN
METHOD:PUBLISH
X-WR-CALNAME:Gemini Ink
X-ORIGINAL-URL:https://geminiink.org
X-WR-CALDESC:Events for Gemini Ink
REFRESH-INTERVAL;VALUE=DURATION:PT1H
X-Robots-Tag:noindex
X-PUBLISHED-TTL:PT1H
BEGIN:VTIMEZONE
TZID:America/Mexico_City
BEGIN:DAYLIGHT
TZOFFSETFROM:-0600
TZOFFSETTO:-0500
TZNAME:CDT
DTSTART:20230402T080000
END:DAYLIGHT
BEGIN:STANDARD
TZOFFSETFROM:-0500
TZOFFSETTO:-0600
TZNAME:CST
DTSTART:20231029T070000
END:STANDARD
END:VTIMEZONE
BEGIN:VEVENT
DTSTART;TZID=America/Mexico_City:20230506T130000
DTEND;TZID=America/Mexico_City:20230506T170000
DTSTAMP:20260421T222422
CREATED:20230330T162845Z
LAST-MODIFIED:20230419T205740Z
UID:8433-1683378000-1683392400@geminiink.org
SUMMARY:Voices of San Anto Bilingual Storytelling Workshop with Marisela Barrera
DESCRIPTION:You have a story to tell\, and we want to help you tell it!\n\n\n\n\nJoin poet and storyteller Marisela Barrera for a free\, two-session workshop at the San Antonio Public Library. Craft a five to seven-minute story about a significant moment in your life and present it a public performance and celebration. Whether it’s that funny anecdote you share at parties\, an event that changed your life\, or a family story passed down for generations\, your story matters\, and we want to help you bring it to life. \nThis workshop is for adults 18+\, and no writing or performance experience is required. Native Spanish speakers and bilingual folks are highly encouraged to register. \n\n\nYou will leave the workshop with: \n\nA fully-formed story ready for performance\nAn understanding of story elements\nPerformance strategies for effective live storytelling\nExperience sharing a story with friends\, family\, and the community\n\n\n\n\n\nDates:\nWriting Sessions May 6 & 13\, 1-5pm \nFinal Celebration May 20\, 10:30am-12:30pm \n\n\n\n\nTo register\, email Sarah De La Rosa:\nsarah.delarosa@sanantonio.gov\n\n\n\n\n\n\n(If email link is not clickable\, cut and paste the email sarah.delarosa@sanantonio.gov into your email client.)\n\n\n\n\n\n\n\nMarisela Barrera is a Tejana writer and teatrista who writes short stories and turns them into transmedia performances. She spins and eats fire with Jump-Start Performance Co.\, teaches writing at Northwest Vista College\, and is a Resident Actor with the Public Theater of San Antonio. \n\n\n\n\n\n \n 
URL:https://geminiink.org/events/voices-of-san-anto-1/
LOCATION:Central Library\, 600 Soledad\, San Antonio\, Texas\, 78205
CATEGORIES:Workshop
ATTACH;FMTTYPE=image/jpeg:https://geminiink.org/wp-content/uploads/2023/03/marisela-voices-of-san-anto1.jpg
END:VEVENT
END:VCALENDAR